BEGIN:VCALENDAR
VERSION:2.0
PRODID:-//wp-events-plugin.com//7.0.5//EN
TZID:America/Los_Angeles
X-WR-TIMEZONE:America/Los_Angeles
BEGIN:VEVENT
UID:2545@newportbeach.com
DTSTART;TZID=America/Los_Angeles:20260402T160000
DTEND;TZID=America/Los_Angeles:20260402T180000
DTSTAMP:20260203T201240Z
URL:https://www.newportbeach.com/events/youre-invited-free-camelots-commun
 ity-bbq-networking-mini-golf-april-2nd/
SUMMARY:You’re Invited! Free Camelot’s Community BBQ\, Networking & Min
 i Golf – April 2nd
DESCRIPTION:[vc_row][vc_column][vc_column_text]Enjoy a complimentary BBQ\, 
 connect with fellow members and community businesses\, and take part in gu
 ided venue tours to see all that Camelot Golfland has to offer for group e
 vents. We’ll also be offering mini golf\, giving you the chance to relax
 \, have fun\, and continue networking in a casual setting.\n\nCamelot Golf
 land proudly hosts company outings\, team-building events\, fundraisers\, 
 and client appreciation gatherings\, and we would love the opportunity to 
 explore partnerships and future collaborations with you.\n\nPlease see the
  attached flyer for full event details\, including timing and RSVP informa
 tion.\n\nEvent Highlights:\nDate: Wednesday\, April 2nd\nLocation: Camelot
  Golfland – Anaheim\nBBQ\, Networking\, Tours &amp\; Mini Golf: Complime
 ntary\nWho’s invited: Members &amp\; Community Businesses\n\nWe look for
 ward to welcoming you to Camelot Golfland and sharing a fun and engaging a
 fternoon together.[/vc_column_text][vc_single_image image="632842" img_siz
 e="full" alignment="center"][/vc_column][/vc_row]
ATTACH;FMTTYPE=image/jpeg:https://www.newportbeach.com/wp-content/uploads/
 2026/01/Screenshot-2026-02-03-121052.png
CATEGORIES:Local Events
LOCATION:Camelot Golfland\, 3200 E Carpenter Ave\, Anahiem\, CA\, 92806\, U
 nited States
X-APPLE-STRUCTURED-LOCATION;VALUE=URI;X-ADDRESS=3200 E Carpenter Ave\, Anah
 iem\, CA\, 92806\, United States;X-APPLE-RADIUS=100;X-TITLE=Camelot Golfla
 nd:geo:0,0
END:VEVENT
BEGIN:VTIMEZONE
TZID:America/Los_Angeles
X-LIC-LOCATION:America/Los_Angeles
BEGIN:DAYLIGHT
DTSTART:20260308T030000
TZOFFSETFROM:-0800
TZOFFSETTO:-0700
TZNAME:PDT
END:DAYLIGHT
END:VTIMEZONE
END:VCALENDAR