BEGIN:VCALENDAR
VERSION:2.0
PRODID:-//wp-events-plugin.com//7.0.5//EN
TZID:America/Los_Angeles
X-WR-TIMEZONE:America/Los_Angeles
BEGIN:VEVENT
UID:2260@newportbeach.com
DTSTART;TZID=America/Los_Angeles:20250301T150000
DTEND;TZID=America/Los_Angeles:20250301T180000
DTSTAMP:20250203T210351Z
URL:https://www.newportbeach.com/events/wildlife-jewels-world-wildlife-day
 -celebration-newport-beach/
SUMMARY:Wildlife Jewels® World Wildlife Day Celebration Newport Beach!
DESCRIPTION:[vc_row][vc_column][vc_btn title="Reserve A Spot Here!" style="
 3d" color="mulled-wine" link="url:https%3A%2F%2Fwww.wildlifejewels.org%2Fw
 ildlife-jewels-world-wildlife-day-celebration-newport-beach|target:_blank"
 ][vc_single_image image="627353" img_size="Full" onclick="custom_link" img
 _link_target="_blank" link="https://www.wildlifejewels.org/wildlife-jewels
 -world-wildlife-day-celebration-newport-beach"][vc_column_text]You're invi
 ted to join Wildlife Jewels® at the Newport Beach Civic Center Community 
 Room &amp\; Lawn for a special event that celebrates wildlife\, community\
 , and conservation\, blending art\, education\, science\, and fashion to i
 nspire action for wildlife protection. Honoring the United Nations World W
 ildlife Day 2025 theme\, "Wildlife Conservation Finance: Investing in Peop
 le and Planet\," the event will feature captivating wildlife stories\, eng
 aging presentations\, and Wildlife Jewels Collections exhibitions showcasi
 ng wildlife-inspired art and fashion. Participate in our interactive colle
 ctive art piece workshop – Featuring California wildlife impacted by the
  L.A. fires\, endangered and vulnerable species like the Monarch Butterfly
 \, keystone species such as the Antarctic Krill\, and wildlife threatened 
 by poaching\, including the White Rhinos. Plant native flowers to support 
 hummingbirds and butterflies\, learn about global wildlife conservation ef
 forts as well as our local wildlife rescue initiatives\n\nSupport this inv
 aluable cause by joining our Silent Auction\, with proceeds dedicated to v
 ital wildlife rescue and conservation efforts.\n\nSpace is limited\, and p
 re-registration is required. Learn more and reserve your spot at: https://
 www.wildlifejewels.org/wildlife-jewels-world-wildlife-day-celebration-newp
 ort-beach[/vc_column_text][/vc_column][/vc_row]
ATTACH;FMTTYPE=image/jpeg:https://www.newportbeach.com/wp-content/uploads/
 2025/01/WildlifeJewels-WWD2025-Flyer.png
CATEGORIES:Local Events
LOCATION:Newport Beach Civic Green\, 100 Civic Center Dr.\, Newport Beach\,
  CA\, 92660\, United States
X-APPLE-STRUCTURED-LOCATION;VALUE=URI;X-ADDRESS=100 Civic Center Dr.\, Newp
 ort Beach\, CA\, 92660\, United States;X-APPLE-RADIUS=100;X-TITLE=Newport 
 Beach Civic Green:geo:0,0
END:VEVENT
BEGIN:VTIMEZONE
TZID:America/Los_Angeles
X-LIC-LOCATION:America/Los_Angeles
BEGIN:STANDARD
DTSTART:20241103T010000
TZOFFSETFROM:-0700
TZOFFSETTO:-0800
TZNAME:PST
END:STANDARD
END:VTIMEZONE
END:VCALENDAR