BEGIN:VCALENDAR
VERSION:2.0
PRODID:-//wp-events-plugin.com//7.0.5//EN
TZID:America/Los_Angeles
X-WR-TIMEZONE:America/Los_Angeles
BEGIN:VEVENT
UID:2316@newportbeach.com
DTSTART;TZID=America/Los_Angeles:20250403T070000
DTEND;TZID=America/Los_Angeles:20250403T083000
DTSTAMP:20250314T180331Z
URL:https://www.newportbeach.com/events/wake-up-newport-working-wardrobes-
 celebrating-newport-april-3/
SUMMARY:Wake Up! Newport - Working Wardrobes - Celebrating Newport - April 
 3
DESCRIPTION:[vc_row][vc_column][vc_single_image image="627688" img_size="fu
 ll" alignment="center" onclick="img_link_large"][/vc_column][vc_column][vc
 _separator][vc_column_text]\nPlease bring clothing donations to the meetin
 g.\n[/vc_column_text][vc_separator][/vc_column][/vc_row][vc_row][vc_column
 ][vc_single_image image="627689" img_size="full" alignment="center" onclic
 k="img_link_large"][/vc_column][/vc_row][vc_row][vc_column][vc_separator][
 /vc_column][/vc_row][vc_row][vc_column][vc_column_text]\nThis event is fre
 e to the public\, but please make reservations so we can plan for food and
  seating.\n[/vc_column_text][/vc_column][/vc_row][vc_row][vc_column][gravi
 tyform id="318" title="false" description="false" ajax="false"][/vc_column
 ][/vc_row][vc_row disable_element="yes"][vc_column][vc_column_text]\nBreak
 fast Treats Provided\n[/vc_column_text][vc_column_text][/vc_column_text][/
 vc_column][/vc_row][vc_row][vc_column width="1/2"][vc_column_text]\nBreakf
 ast Treats Provided\n[/vc_column_text][vc_column_text][/vc_column_text][/v
 c_column][vc_column width="1/2"][vc_column_text]\nSponsored By\n[/vc_colum
 n_text][vc_column_text][/vc_column_text][/vc_column][/vc_row][vc_row][vc_c
 olumn][vc_separator][/vc_column][/vc_row][vc_row disable_element="yes"][vc
 _column][vc_column_text css=".vc_custom_1739398633101{border-top-width: 10
 px !important\;border-top-color: #141414 !important\;}"]Mayor Joe Stapleto
 n was elected to the Newport Beach City Council in November 2022 and Mayo
 r in 2025.\n\nHe was named “Newport Beach Citizen of The Year” in 2020
 \, and his passion for the City runs deep. He served on the Newport Beach 
 Harbor Commission from 2013-2017\, where he supported the efforts to creat
 e a new Harbor Department\, helped jumpstart the overhaul of Title 17\, an
 d enjoyed a term as Vice Chair before joining the City’s Finance Committ
 ee.\n\nFor the past four years\, he has championed fiscal responsibility\,
  pension\, and debt paydown\, and balanced budgets with heavy emphasis on 
 public safety and infrastructure. His experience on both the Harbor Commis
 sion and Finance Committee has led to a well-rounded view of the needs of 
 our City\, including funding additional needs on the Harbor\, responding t
 o homelessness\, and addressing basic quality-of-life services.\n\nAs Pres
 ident and Co-Founder of Spinnaker Investment Group\, he oversees the firm
 ’s client relationships while advising businesses and individuals on cus
 tomized wealth and investment management solutions. His top priority is as
 sisting clients to achieve what is most important to them by bringing thei
 r goals and desires in line with their financial resources.\n\nHe is also 
 former Chairman of the Board of the Newport Beach Foundation\, an organiza
 tion that he revitalized to raise civic awareness in young professionals. 
 The program has graduated over 160 people\, including a dozen now serving 
 on city boards\, commissions\, and committees. He also serves on more than
  a dozen boards of directors for community and civic organizations\, inclu
 ding The Pacific Club\, New Majority Orange County\, Newport Beach &amp\; 
 Company\, Literacy Project\, Speak Up Newport\, The Pacific Arts Foundatio
 n\, Lott Trophy\, and International Executive Council. He is also the Skip
 per of the Commodores Club of the Newport Beach Chamber of Commerce.\n\nPa
 st awards and service includes:\n\n 	2020 Newport Beach Citizen of the Yea
 r\n 	2019 NB &amp\; Company Dennis O’Neil Partner in Progress Award Winn
 er\n 	40 Under 40 – OC Metro 2014\n 	Finance Committee Member – City o
 f Newport Beach 2017 – Current\n 	Harbor Commissioner – City of Newpor
 t Beach 2013-2017\n 	Charter Update Committee Member – City of Newport B
 each 2012\n 	Newport Beach Foundation – Chairman\n 	Newport Beach Chambe
 r of Commerce – Board of Directors – Chairman of the Board (2015)\n 	C
 ommodores Club – Skipper (2021)\n 	The Pacific Club – Board Member\n 	
 Pacific Art Foundation – Board Member\n 	Lott Trophy – Board Member\n 
 	Literacy Project – Board Member\n 	The New Majority – Board Member\n 
 	Corona del Mar Residents Association – Past Board Member\n 	Leadership 
 Tomorrow – Past Board Member\n 	The Elite OC\, Young Professionals Socie
 ty – Founder\n 	OC Marathon – Board\n 	Fire Ops 101 – Newport Beach 
 – Graduate\n 	Citizen Police Academy – Newport Beach Graduate\n\n[/vc_
 column_text][/vc_column][/vc_row]
ATTACH;FMTTYPE=image/jpeg:https://www.newportbeach.com/wp-content/uploads/
 2025/03/Wake-Up-Newport-April-3-Working-Wardrobes-300.jpg
CATEGORIES:Chamber Events,Featured
LOCATION:Newport Beach Community Room\, 100 Civic Center Drive\, Newport Be
 ach\, CA\, 92660\, United States
X-APPLE-STRUCTURED-LOCATION;VALUE=URI;X-ADDRESS=100 Civic Center Drive\, Ne
 wport Beach\, CA\, 92660\, United States;X-APPLE-RADIUS=100;X-TITLE=Newpor
 t Beach Community Room:geo:0,0
END:VEVENT
BEGIN:VTIMEZONE
TZID:America/Los_Angeles
X-LIC-LOCATION:America/Los_Angeles
BEGIN:DAYLIGHT
DTSTART:20250309T030000
TZOFFSETFROM:-0800
TZOFFSETTO:-0700
TZNAME:PDT
END:DAYLIGHT
END:VTIMEZONE
END:VCALENDAR