BEGIN:VCALENDAR
VERSION:2.0
PRODID:-//wp-events-plugin.com//7.0.5//EN
TZID:America/Los_Angeles
X-WR-TIMEZONE:America/Los_Angeles
BEGIN:VEVENT
UID:2618@newportbeach.com
DTSTART;TZID=America/Los_Angeles:20260507T070000
DTEND;TZID=America/Los_Angeles:20260507T083000
DTSTAMP:20260420T221433Z
URL:https://www.newportbeach.com/events/wake-up-newport-update-orange-coas
 t-college/
SUMMARY:Wake Up! Newport - Update...Orange Coast College
DESCRIPTION:[vc_row][vc_column][vc_single_image image="633817" img_size="fu
 ll" alignment="center" onclick="img_link_large"][/vc_column][/vc_row][vc_r
 ow][vc_column][vc_separator][/vc_column][/vc_row][vc_row][vc_column][vc_co
 lumn_text]\nThis event is free to the public\, but please make reservation
 s so we can plan for food and seating.\n[/vc_column_text][/vc_column][/vc_
 row][vc_row][vc_column][gravityform id="389" title="false" description="fa
 lse" ajax="false"][/vc_column][/vc_row][vc_row][vc_column][vc_column_text]
 \nBreakfast Treats Provided\n[/vc_column_text][vc_column_text][/vc_column_
 text][/vc_column][/vc_row][vc_row disable_element="yes"][vc_column width="
 1/3"][vc_column_text]\nBreakfast Treats Provided\n[/vc_column_text][vc_col
 umn_text][/vc_column_text][/vc_column][vc_column width="1/3"][vc_column_te
 xt]\nBreakfast Treats Sponsored By\n[/vc_column_text][vc_column_text][/vc_
 column_text][/vc_column][vc_column width="1/3"][vc_column_text]\nCoffee Se
 rvice Sponsored by\n[/vc_column_text][vc_column_text][/vc_column_text][/vc
 _column][/vc_row][vc_row][vc_column][vc_separator][/vc_column][/vc_row][vc
 _row disable_element="yes"][vc_column][vc_column_text css=".vc_custom_1773
 686159546{border-top-width: 10px !important\;border-top-color: #141414 !im
 portant\;}"]Mayor Lauren Kleiman was elected to the City Council in 2022\
 , Mayor Pro Tem in 2025 and Mayor in 2026 with a commitment to Public Safe
 ty and the goal of preserving the quality of life in Newport Beach.\n\nMay
 or Kleiman is the Vice Chair of the Newport Beach Aviation Committee\, the
  City’s delegate on the  Southern California Association of Governments
  (SCAG)\, the Vice Chair for the Orange County Council of Governments (OCC
 OG)\, and holds a seat on the Board of Directors for the Orange County Tra
 nsportation   Authority (OCTA).\n\nMayor Kleiman has a long history of s
 ervice to the community\, beginning as a member of the Aviation Committee 
 before being appointed to the City’s Planning Commission\, where she ser
 ved for six years.\n\nAs a Founding Board Member of the Newport Beach Foun
 dation\, Mayor Pro Tem Kleiman started a Parent Education Series to help f
 amilies navigate through the difficult issues they are faced with today\, 
 and furthered the organization’s mission to ignite the next generation o
 f leadership in the City\, through their high school scholarship and Disti
 nguished Citizen programs.\n\nMayor Kleiman received her Juris Doctor degr
 ee and Certificate in Dispute Resolution from Pepperdine School of Law.  
 She is an attorney and businesswoman who is passionate about giving her ti
 me to better the community.\n\nMayor Kleiman and her husband\, Marc\, fee
 l so fortunate to be raising their son in Corona del Mar.[/vc_column_text]
 [/vc_column][/vc_row]
ATTACH;FMTTYPE=image/jpeg:https://www.newportbeach.com/wp-content/uploads/
 2026/04/Wake-Up-Newport-May-2026-Suarez-and-Parker-300.jpg
CATEGORIES:Chamber Events,Featured
LOCATION:Newport Beach Community Room\, 100 Civic Center Drive\, Newport Be
 ach\, CA\, 92660\, United States
X-APPLE-STRUCTURED-LOCATION;VALUE=URI;X-ADDRESS=100 Civic Center Drive\, Ne
 wport Beach\, CA\, 92660\, United States;X-APPLE-RADIUS=100;X-TITLE=Newpor
 t Beach Community Room:geo:0,0
END:VEVENT
BEGIN:VTIMEZONE
TZID:America/Los_Angeles
X-LIC-LOCATION:America/Los_Angeles
BEGIN:DAYLIGHT
DTSTART:20260308T030000
TZOFFSETFROM:-0800
TZOFFSETTO:-0700
TZNAME:PDT
END:DAYLIGHT
END:VTIMEZONE
END:VCALENDAR