BEGIN:VCALENDAR
VERSION:2.0
PRODID:-//wp-events-plugin.com//7.0.5//EN
TZID:America/Los_Angeles
X-WR-TIMEZONE:America/Los_Angeles
BEGIN:VEVENT
UID:2487@newportbeach.com
DTSTART;TZID=America/Los_Angeles:20251106T070000
DTEND;TZID=America/Los_Angeles:20251106T083000
DTSTAMP:20251031T230127Z
URL:https://www.newportbeach.com/events/wake-up-newport-california-state-t
 reasurer-fiona-ma/
SUMMARY:Wake Up! Newport - Fiona Ma\, CPA California State Treasurer
DESCRIPTION:[vc_row][vc_column][vc_single_image image="631950" img_size="fu
 ll" alignment="center" onclick="img_link_large"][/vc_column][/vc_row][vc_r
 ow][vc_column][vc_separator][/vc_column][/vc_row][vc_row][vc_column][vc_co
 lumn_text]\nThis event is free to the public\, but please make reservation
 s so we can plan for food and seating.\n[/vc_column_text][/vc_column][/vc_
 row][vc_row][vc_column][gravityform id="359" title="false" description="fa
 lse" ajax="false"][/vc_column][/vc_row][vc_row disable_element="yes"][vc_c
 olumn][vc_column_text]\nBreakfast Treats Provided\n[/vc_column_text][vc_co
 lumn_text][/vc_column_text][/vc_column][/vc_row][vc_row][vc_column width="
 1/2"][vc_column_text]\nBreakfast Treats Provided\n[/vc_column_text][vc_col
 umn_text][/vc_column_text][/vc_column][vc_column width="1/2"][vc_column_te
 xt]\nSponsored By\n[/vc_column_text][vc_column_text][/vc_column_text][/vc_
 column][/vc_row][vc_row][vc_column][vc_separator][/vc_column][/vc_row][vc_
 row][vc_column][vc_column_text css=".vc_custom_1761757126018{border-top-wi
 dth: 10px !important\;border-top-color: #141414 !important\;}"]Fiona Ma is
  California’s 34th State Treasurer. She was first elected on November 6\
 , 2018\, with more votes (7\,825\,587) than any other candidate for treasu
 rer in the state's history and reelected on November 8\, 2022. She is the 
 first woman of color and the first woman Certified Public Accountant (CPA)
  elected to the position.\n\nThe State Treasurer’s Office was created in
  the California Constitution in 1849. It provides financing for schools\, 
 roads\, housing\, recycling and waste management\, hospitals\, public faci
 lities\, and other crucial infrastructure projects that better the lives o
 f residents. California is poised to become the world’s fourth-largest e
 conomy and Treasurer Ma is the state’s primary banker.\n\nPresently\, he
 r office processes more than $3 trillion in banking transactions. She prov
 ides transparency and oversight for the government’s investment portfoli
 o and accounts\, as well as for the state’s surplus funds. Treasurer Ma 
 oversees an investment portfolio that currently averages over $200 billion
 —a significant portion of which is beneficially owned by more than 2\,20
 0 local governments in California. She serves as agent of sale for all Sta
 te bonds and is trustee of billions of dollars of state indebtedness.[/vc_
 column_text][/vc_column][/vc_row]
ATTACH;FMTTYPE=image/jpeg:https://www.newportbeach.com/wp-content/uploads/
 2025/10/Wake-Up-Newport-November-6-2025-Ma-300x300-2.jpg
CATEGORIES:Chamber Events,Featured
LOCATION:Newport Beach Community Room\, 100 Civic Center Drive\, Newport Be
 ach\, CA\, 92660\, United States
X-APPLE-STRUCTURED-LOCATION;VALUE=URI;X-ADDRESS=100 Civic Center Drive\, Ne
 wport Beach\, CA\, 92660\, United States;X-APPLE-RADIUS=100;X-TITLE=Newpor
 t Beach Community Room:geo:0,0
END:VEVENT
BEGIN:VTIMEZONE
TZID:America/Los_Angeles
X-LIC-LOCATION:America/Los_Angeles
BEGIN:STANDARD
DTSTART:20251102T010000
TZOFFSETFROM:-0700
TZOFFSETTO:-0800
TZNAME:PST
END:STANDARD
END:VTIMEZONE
END:VCALENDAR