BEGIN:VCALENDAR
VERSION:2.0
PRODID:-//wp-events-plugin.com//7.0.5//EN
TZID:America/Los_Angeles
X-WR-TIMEZONE:America/Los_Angeles
BEGIN:VEVENT
UID:2592@newportbeach.com
DTSTART;TZID=America/Los_Angeles:20260505T113000
DTEND;TZID=America/Los_Angeles:20260505T133000
DTSTAMP:20260409T160700Z
URL:https://www.newportbeach.com/events/uc-irvine-school-of-social-ecology
 -dialogue-during-a-time-of-disruption-immigration-in-transition/
SUMMARY:UC Irvine School of Social Ecology - Dialogue During a Time of Disr
 uption - Immigration in Transition
DESCRIPTION:[vc_row][vc_column][vc_single_image image="633452" img_size="fu
 ll" alignment="center"][/vc_column][/vc_row][vc_row][vc_column][vc_btn tit
 le="RESERVATIONS" color="primary" size="lg" align="center" link="url:http%
 3A%2F%2Fbit.ly%2F4t3IICS|target:_blank"][/vc_column][/vc_row]
ATTACH;FMTTYPE=image/jpeg:https://www.newportbeach.com/wp-content/uploads/
 2026/03/Dialogue-During-a-Time-of-disruption-300.jpg
CATEGORIES:Local Events
LOCATION:The Cove at UCI\, 5270 California Avenue ## 100\, Irvine\, CA\, 92
 617\, United States
X-APPLE-STRUCTURED-LOCATION;VALUE=URI;X-ADDRESS=5270 California Avenue ## 1
 00\, Irvine\, CA\, 92617\, United States;X-APPLE-RADIUS=100;X-TITLE=The Co
 ve at UCI:geo:0,0
END:VEVENT
BEGIN:VTIMEZONE
TZID:America/Los_Angeles
X-LIC-LOCATION:America/Los_Angeles
BEGIN:DAYLIGHT
DTSTART:20260308T030000
TZOFFSETFROM:-0800
TZOFFSETTO:-0700
TZNAME:PDT
END:DAYLIGHT
END:VTIMEZONE
END:VCALENDAR