BEGIN:VCALENDAR
VERSION:2.0
PRODID:-//wp-events-plugin.com//7.0.5//EN
TZID:America/Los_Angeles
X-WR-TIMEZONE:America/Los_Angeles
BEGIN:VEVENT
UID:2543@newportbeach.com
DTSTART;TZID=America/Los_Angeles:20260227T090000
DTEND;TZID=America/Los_Angeles:20260308T180000
DTSTAMP:20260128T170429Z
URL:https://www.newportbeach.com/events/tomantomania-at-rogers-gardens-2/
SUMMARY:TOMANTOMANIA! at Roger's Gardens
DESCRIPTION:[vc_row][vc_column][vc_single_image image="632802" img_size="la
 rge" alignment="center"][vc_column_text]\nFriday\, February 27 – Sunday\
 , March 8\nfrom 9 AM – 6 PM Daily\nTomatoMania Online Pre-Sale: January 
 30 - February 22\nTomatoMania Event at Roger’s Gardens: February 27– M
 arch 8\nPepperMania Event at Roger’s Gardens: April 24 – May 3\n[/vc_c
 olumn_text][vc_single_image image="632803" img_size="large" alignment="cen
 ter"][vc_column_text]\n“The world’s largest (and most fun) tomato plan
 t sale” comes to Roger’s Gardens for the 15th year. Scott Daigre and h
 is staff of Tomatomaniacs offer an astonishing selection of over 300 varie
 ties of heirloom and hybrid tomato plants\, including new varieties for 20
 26. Also\, we will be introducing the highly anticipated Tomato of the Yea
 r soon!\nTomatomania at Roger's Gardens is more than just a plant sale\; i
 t's an experience. This ten-day event promises to be a paradise for tomato
  lovers and garden enthusiasts alike\, offering an unrivaled selection of 
 heirloom and hybrid tomato plants\, along with expert advice and all the s
 upplies needed to grow the best tomatoes in your own garden.\nThis year's 
 event features an extraordinary array of tomato varieties\, from cherished
  heirlooms like ‘Brandywine’ and ‘Cherokee Purple’ to exciting new
  dwarf heirlooms and productive hybrids like the blue splashed “Two Tast
 y” or an orange grape standout called ‘Vivacious’. And what gardener
  can resist a huge\, rust-colored Canadian beefsteak called Cowboy?\nFor c
 onvenience in navigating the huge selection\, tomatoes will be organized a
 lphabetically\, with special sections just for our Miniatures\, Tomatoes-o
 f-the-Year\, and Roger’s Recommends. And be sure to brag and share about
  your own favorite tomato variety on your social media.\nIf you just can
 ’t wait and don’t want to miss-out on getting your favorite\, be sure 
 to visit our online pre-sale where you can view all the information and re
 serve your favorites.\nWhether you're a seasoned gardener or just starting
  out\, our tomato experts will be on hand to offer advice on choosing the 
 right varieties for your garden\, care tips\, and techniques for maximizin
 g your yield and flavor.\nConnect with other tomato enthusiasts and immers
 e yourself in videos that will make you want to learn more about these spe
 cial plants. Experts will answer any questions to ensure a successful toma
 to season.\nHappy Tomato Hunting!\n[/vc_column_text][vc_column_text]\nThis
  event is FREE! For updates and information\, please visit www.rogersgarde
 ns.com/pages/tomatomania\nFacebook.com/rogersgardens and follow @rogersgar
 dens on Instagram.\n[/vc_column_text][/vc_column][/vc_row]
ATTACH;FMTTYPE=image/jpeg:https://www.newportbeach.com/wp-content/uploads/
 2026/01/tomatomania-square.jpg
CATEGORIES:Local Events
LOCATION:Rogers Garden\, 2301 San Joaquin Hills Rd.\,  Corona del Mar\, CA\
 , 92625\, United States
X-APPLE-STRUCTURED-LOCATION;VALUE=URI;X-ADDRESS=2301 San Joaquin Hills Rd.\
 ,  Corona del Mar\, CA\, 92625\, United States;X-APPLE-RADIUS=100;X-TITLE=
 Rogers Garden:geo:0,0
END:VEVENT
BEGIN:VTIMEZONE
TZID:America/Los_Angeles
X-LIC-LOCATION:America/Los_Angeles
BEGIN:STANDARD
DTSTART:20251102T010000
TZOFFSETFROM:-0700
TZOFFSETTO:-0800
TZNAME:PST
END:STANDARD
BEGIN:DAYLIGHT
DTSTART:20260308T030000
TZOFFSETFROM:-0800
TZOFFSETTO:-0700
TZNAME:PDT
END:DAYLIGHT
END:VTIMEZONE
END:VCALENDAR