BEGIN:VCALENDAR
VERSION:2.0
PRODID:-//wp-events-plugin.com//7.0.5//EN
TZID:America/Los_Angeles
X-WR-TIMEZONE:America/Los_Angeles
BEGIN:VEVENT
UID:1191@newportbeach.com
DTSTART;TZID=America/Los_Angeles:20190130T183000
DTEND;TZID=America/Los_Angeles:20190130T183000
DTSTAMP:20190115T233129Z
URL:https://www.newportbeach.com/events/the-crisis-in-our-public-pension-s
 ystem/
SUMMARY:The Crisis in our Public Pension System
DESCRIPTION:
CATEGORIES:Local Events
LOCATION:University of California\, Irvine\, 510 E. Peltason Dr.\, Irvine\,
  CA\, 92697\, United States
GEO:33.6449774;-117.83479090000003
X-APPLE-STRUCTURED-LOCATION;VALUE=URI;X-ADDRESS=510 E. Peltason Dr.\, Irvin
 e\, CA\, 92697\, United States;X-APPLE-RADIUS=100;X-TITLE=University of Ca
 lifornia\, Irvine:geo:33.6449774,-117.83479090000003
END:VEVENT
BEGIN:VTIMEZONE
TZID:America/Los_Angeles
X-LIC-LOCATION:America/Los_Angeles
BEGIN:STANDARD
DTSTART:20181104T010000
TZOFFSETFROM:-0700
TZOFFSETTO:-0800
TZNAME:PST
END:STANDARD
END:VTIMEZONE
END:VCALENDAR