BEGIN:VCALENDAR
VERSION:2.0
PRODID:-//wp-events-plugin.com//7.0.5//EN
TZID:America/Los_Angeles
X-WR-TIMEZONE:America/Los_Angeles
BEGIN:VEVENT
UID:756@newportbeach.com
DTSTART;TZID=America/Los_Angeles:20170919T190000
DTEND;TZID=America/Los_Angeles:20170919T213000
DTSTAMP:20170912T174417Z
URL:https://www.newportbeach.com/events/sir-bruno-serato-chapman-universit
 y/
SUMMARY:Sir Bruno Serato at Chapman University
DESCRIPTION:Serato will discuss his upcoming book\, “Power of Pasta” by
  narrating how he came to blend his passion as a chef with his mission of 
 helping hungry children around the world. Event is free and will be held i
 n Beckman Hall\, Room 404.\nSir Bruno Serato has earned international accl
 aim for his humanitarian work that includes feeding some 3\,500 Southern C
 alifornia children each day\, finding permanent housing for “motel” fa
 milies living in squalor and helping at-risk youth train for jobs in the h
 ospitality field. Now he’s becoming a much sought-after public speaker w
 ho uses his voice to inspire others to get involved in their communities.
ATTACH;FMTTYPE=image/jpeg:https://www.newportbeach.com/wp-content/uploads/
 2017/09/Sir-Bruno-Serato-Evelina-Poprtarit-Photography-2.jpg
CATEGORIES:Local Events
LOCATION:Chapman University\, 1 University Dr\, Orange\, CA\, United States
GEO:33.7928203;-117.8537167
X-APPLE-STRUCTURED-LOCATION;VALUE=URI;X-ADDRESS=1 University Dr\, Orange\, 
 CA\, United States;X-APPLE-RADIUS=100;X-TITLE=Chapman University:geo:33.79
 28203,-117.8537167
END:VEVENT
BEGIN:VTIMEZONE
TZID:America/Los_Angeles
X-LIC-LOCATION:America/Los_Angeles
BEGIN:DAYLIGHT
DTSTART:20170312T030000
TZOFFSETFROM:-0800
TZOFFSETTO:-0700
TZNAME:PDT
END:DAYLIGHT
END:VTIMEZONE
END:VCALENDAR