BEGIN:VCALENDAR
VERSION:2.0
PRODID:-//wp-events-plugin.com//7.0.5//EN
TZID:America/Los_Angeles
X-WR-TIMEZONE:America/Los_Angeles
BEGIN:VEVENT
UID:694@newportbeach.com
DTSTART;TZID=America/Los_Angeles:20170919T163000
DTEND;TZID=America/Los_Angeles:20170919T173000
DTSTAMP:20170718T224058Z
URL:https://www.newportbeach.com/events/sandcastle-committee-meeting-2-2-2
 /
SUMMARY:Board of Directors Executive Meeting
DESCRIPTION:The Board of Directors Executive Meeting will be held at 4:30p
 m at The Chamber Offices.\n\nPlease contact the Chamber if you will not
  be in attendance.
CATEGORIES:Chamber Committee Meetings
LOCATION:Newport Beach Chamber of Commerce\, 4343 Von Karman Ave.\, Ste. 15
 0-W\, Newport Beach\, CA\, 92660\, United States
GEO:33.6647704;-117.86253160000001
X-APPLE-STRUCTURED-LOCATION;VALUE=URI;X-ADDRESS=4343 Von Karman Ave.\, Ste.
  150-W\, Newport Beach\, CA\, 92660\, United States;X-APPLE-RADIUS=100;X-T
 ITLE=Newport Beach Chamber of Commerce:geo:33.6647704,-117.86253160000001
END:VEVENT
BEGIN:VTIMEZONE
TZID:America/Los_Angeles
X-LIC-LOCATION:America/Los_Angeles
BEGIN:DAYLIGHT
DTSTART:20170312T030000
TZOFFSETFROM:-0800
TZOFFSETTO:-0700
TZNAME:PDT
END:DAYLIGHT
END:VTIMEZONE
END:VCALENDAR