BEGIN:VCALENDAR
VERSION:2.0
PRODID:-//wp-events-plugin.com//7.0.5//EN
TZID:America/Los_Angeles
X-WR-TIMEZONE:America/Los_Angeles
BEGIN:VEVENT
UID:1631@newportbeach.com
DTSTART;TZID=America/Los_Angeles:20210820T090000
DTEND;TZID=America/Los_Angeles:20210820T150000
DTSTAMP:20210809T214845Z
URL:https://www.newportbeach.com/events/rise-up-for-you-culture-shift-summ
 it-2021/
SUMMARY:Rise Up For You: Culture Shift Summit 2021
DESCRIPTION:[vc_row][vc_column][vc_column_text]\nCulture Shift Summit 2021:
  Where People Come First\n[/vc_column_text][vc_single_image image="559955"
  img_size="full" alignment="center"][/vc_column][/vc_row][vc_row][vc_colum
 n][vc_column_text]\n1 Day                       8+ Presenters
                 Global Community\n[/vc_column_text][/vc_column][/v
 c_row][vc_row][vc_column][vc_column_text]\nThe Annual Culture Shift Summit
 : Where People Come First brings together executives\, ERG leaders\, and H
 R professionals\, – who are all working towards a more sustainable workp
 lace culture for greater company success and growth. Hear from industry le
 aders as they discuss the current and future workplace shifts\, analyze up
 coming trends and provide education and strategy to positively create tran
 sformation today amongst your team and company. Topics such as how to re-e
 ngage your team post-covid\, diversity and inclusion\, communication\, and
  modern-day leadership are just a few of the areas that will be addressed.
 \n\n[/vc_column_text][vc_column_text]The reality is most companies have co
 mmon challenges that all stem back to people. The Culture Shift Conference
  provides strategies\, tools\, and more to create sustainability and lasti
 ng success amongst your team with a foundation in communication\, emotiona
 l intelligence\, and personal leadership.[/vc_column_text][vc_column_text]
 Join us for this impactful and transformative summit as we discuss topics 
 such as:\n\n 	Are Employees Becoming More Entitled? How to Create a Win-Wi
 n for All Post Covid!\n 	Professional Etiquette: How to Support Your Team 
 with Resocializing\n 	​The Four F's to Team Collaboration and Engagement
 \n 	​No One Wants to Work! How to Find and Keep Great Talent\n 	​How t
 o Get Free Funding for Coaching and Team Training (P.S Your Payroll is al
 ready being taxed for it)\n 	​Women in the Workplace: How to Move Past L
 ip Service and Actually Empower Your Female Leaders\n 	​Those That Serve
 d: How to Use the Superpower of Veterans in the Workforce Today\n 	​Coac
 hing and Mentoring: It's Not One Size Fits All\n 	​And more!\n\n[/vc_col
 umn_text][/vc_column][/vc_row][vc_row][vc_column][vc_separator][vc_btn tit
 le="REGISTER HERE" color="orange" align="center" link="url:https%3A%2F%2Fr
 iseupforyou.biz%2Forder1627338999502"][/vc_column][/vc_row]
ATTACH;FMTTYPE=image/jpeg:https://www.newportbeach.com/wp-content/uploads/
 2021/06/riseupforyou.jpg
CATEGORIES:Local Events
END:VEVENT
BEGIN:VTIMEZONE
TZID:America/Los_Angeles
X-LIC-LOCATION:America/Los_Angeles
BEGIN:DAYLIGHT
DTSTART:20210314T030000
TZOFFSETFROM:-0800
TZOFFSETTO:-0700
TZNAME:PDT
END:DAYLIGHT
END:VTIMEZONE
END:VCALENDAR