BEGIN:VCALENDAR
VERSION:2.0
PRODID:-//wp-events-plugin.com//7.0.5//EN
TZID:America/Los_Angeles
X-WR-TIMEZONE:America/Los_Angeles
BEGIN:VEVENT
UID:1916@newportbeach.com
DTSTART;TZID=America/Los_Angeles:20230616T153000
DTEND;TZID=America/Los_Angeles:20230616T190000
DTSTAMP:20230511T190513Z
URL:https://www.newportbeach.com/events/ribbon-cutting-newport-cove-dermat
 ology/
SUMMARY:RIBBON CUTTING - Newport Cove Dermatology
DESCRIPTION:[vc_row][vc_column][vc_single_image image="618086" img_size="fu
 ll" alignment="center"][/vc_column][/vc_row][vc_row][vc_column][vc_column_
 text]\nRibbon Cutting at 3:30PM!\n[/vc_column_text][/vc_column][/vc_row]
ATTACH;FMTTYPE=image/jpeg:https://www.newportbeach.com/wp-content/uploads/
 2023/05/newport-cove-derm-logo.png
CATEGORIES:Ribbon Cuttings
LOCATION:Newport Cove Dermatology\, 180 Newport Center Drive\, Suite 270\, 
 Newport Beach\, CA\, 92660\, United States
X-APPLE-STRUCTURED-LOCATION;VALUE=URI;X-ADDRESS=180 Newport Center Drive\, 
 Suite 270\, Newport Beach\, CA\, 92660\, United States;X-APPLE-RADIUS=100;
 X-TITLE=Newport Cove Dermatology:geo:0,0
END:VEVENT
BEGIN:VTIMEZONE
TZID:America/Los_Angeles
X-LIC-LOCATION:America/Los_Angeles
BEGIN:DAYLIGHT
DTSTART:20230312T030000
TZOFFSETFROM:-0800
TZOFFSETTO:-0700
TZNAME:PDT
END:DAYLIGHT
END:VTIMEZONE
END:VCALENDAR