BEGIN:VCALENDAR
VERSION:2.0
PRODID:-//wp-events-plugin.com//7.0.5//EN
TZID:America/Los_Angeles
X-WR-TIMEZONE:America/Los_Angeles
BEGIN:VEVENT
UID:2455@newportbeach.com
DTSTART;TZID=America/Los_Angeles:20251023T173000
DTEND;TZID=America/Los_Angeles:20251023T203000
DTSTAMP:20251023T191022Z
URL:https://www.newportbeach.com/events/quad-chamber-sunset-networking-cru
 ise-aboard-endless-dreams-october-2025/
SUMMARY:Quad-Chamber Sunset Networking Cruise aboard Endless Dreams - Octob
 er 2025
DESCRIPTION:[vc_row][vc_column][vc_column_text]\nONLINE RESERVATIONS ARE NO
 W CLOSED.\nPlease call the Chamber at 949-729-4400 for possible attendance
 .\n[/vc_column_text][/vc_column][/vc_row][vc_row][vc_column][vc_single_ima
 ge image="630904" img_size="full" alignment="center" onclick="img_link_lar
 ge"][/vc_column][/vc_row][vc_row][vc_column][vc_separator][vc_column_text]
 \nWelcome aboard the diamond in the Newport Beach fleet - the largest char
 ter yacht in the harbor on three spacious decks. Endless Dreams has been f
 eatured on: CSI: Miami\, HBO's Entourage\, Showtime's Dexter\, and the KTL
 A Morning Show. Enjoy delicious food and beverages\, soak in the beautiful
  ocean views and network with members from FOUR Chambers.\n[/vc_column_tex
 t][vc_separator][/vc_column][/vc_row][vc_row][vc_column][vc_column_text]\n
 Table Sponsors\n[/vc_column_text][vc_row_inner][vc_column_inner width="1/3
 "][vc_single_image image="630963" img_size="150x150" alignment="center" on
 click="custom_link" img_link_target="_blank" link="http://www.thetwofoxes.
 com"][/vc_column_inner][vc_column_inner width="1/3"][vc_single_image image
 ="630964" img_size="full" alignment="center" onclick="custom_link" img_lin
 k_target="_blank" link="http://www.buckacademy.org"][/vc_column_inner][vc_
 column_inner width="1/3"][vc_empty_space height="30px"][vc_single_image im
 age="627414" img_size="full" alignment="center" onclick="custom_link" img_
 link_target="_blank" link="http://www.vanweide.com"][/vc_column_inner][/vc
 _row_inner][vc_row_inner][vc_column_inner width="1/3"][vc_single_image ima
 ge="630968" img_size="150x100" alignment="center" onclick="custom_link" im
 g_link_target="_blank" link="http://www.otosushi.co"][/vc_column_inner][vc
 _column_inner width="1/3"][vc_single_image image="630993" img_size="Full" 
 alignment="center" onclick="custom_link" img_link_target="_blank" link="ht
 tp://www.freedomplumbing.com"][/vc_column_inner][vc_column_inner width="1/
 3"][vc_single_image image="631025" img_size="Full" alignment="center" oncl
 ick="custom_link" img_link_target="_blank" link="https://gsmemorabilia.com
 /"][/vc_column_inner][/vc_row_inner][vc_row_inner][vc_column_inner width="
 1/3"][vc_single_image image="631043" img_size="full" alignment="center" on
 click="custom_link" img_link_target="_blank" link="http://www.Theluxuryhai
 rspa.com"][/vc_column_inner][vc_column_inner width="1/3"][vc_single_image 
 image="631044" img_size="full" alignment="center" onclick="custom_link" im
 g_link_target="_blank" link="https://blackriverss.com"][/vc_column_inner][
 vc_column_inner width="1/3"][vc_single_image image="630292" img_size="160x
 100" alignment="center" onclick="custom_link" img_link_target="_blank" lin
 k="https://shophighseas.com"][/vc_column_inner][/vc_row_inner][vc_row_inne
 r][vc_column_inner width="1/3"][vc_single_image image="631335" img_size="f
 ull" alignment="center" onclick="custom_link" img_link_target="_blank" lin
 k="shop.barrybertelli.com"][/vc_column_inner][vc_column_inner width="1/3"]
 [vc_single_image image="631465" img_size="full" alignment="center" onclick
 ="custom_link" img_link_target="_blank" link="https://Orangewoodfoundation
 .org"][/vc_column_inner][vc_column_inner width="1/3"][vc_single_image imag
 e="631466" img_size="full" alignment="center" onclick="custom_link" img_li
 nk_target="_blank" link="https://www.mailingprosinc.com/"][/vc_column_inne
 r][/vc_row_inner][vc_row_inner][vc_column_inner width="1/3"][vc_single_ima
 ge image="631477" img_size="full" alignment="center" onclick="custom_link"
  img_link_target="_blank" link="http://www.moongoat.com"][/vc_column_inner
 ][vc_column_inner width="1/3"][vc_empty_space height="75px"][vc_single_ima
 ge image="631531" img_size="full" alignment="center" onclick="custom_link"
  img_link_target="_blank" link="http://www.brightstarcare.com/huntington-b
 each"][/vc_column_inner][vc_column_inner width="1/3"][vc_single_image imag
 e="631576" img_size="full" alignment="center" onclick="custom_link" img_li
 nk_target="_blank" link="www.LAFBcatering.com"][/vc_column_inner][/vc_row_
 inner][vc_row_inner][vc_column_inner width="1/3"][vc_single_image image="6
 31754" img_size="full" alignment="center" onclick="custom_link" img_link_t
 arget="_blank" link="www.rowiteen.com"][/vc_column_inner][vc_column_inner 
 width="1/3"][vc_single_image image="631756" img_size="full" alignment="cen
 ter" onclick="custom_link" img_link_target="_blank" link="https://extensis
 hr.com/"][/vc_column_inner][vc_column_inner width="1/3"][vc_single_image i
 mage="631782" img_size="full" alignment="center" onclick="custom_link" img
 _link_target="_blank" link="http://www.charlestonshoeco.com"][/vc_column_i
 nner][/vc_row_inner][vc_row_inner][vc_column_inner width="1/3"][vc_empty_s
 pace height="20px"][vc_single_image image="631786" img_size="full" alignme
 nt="center" onclick="custom_link" img_link_target="_blank" link="www.coreb
 enefits.org"][/vc_column_inner][vc_column_inner width="1/3"][vc_single_ima
 ge image="631792" img_size="full" alignment="center" onclick="custom_link"
  img_link_target="_blank" link="https://www.theeliteoc.com"][/vc_column_in
 ner][vc_column_inner width="1/3"][vc_single_image image="631831" img_size=
 "full" alignment="center" onclick="custom_link" img_link_target="_blank" l
 ink="https://fontaine-roofing.com/"][/vc_column_inner][/vc_row_inner][vc_r
 ow_inner][vc_column_inner width="1/3"][vc_empty_space height="20px"][vc_si
 ngle_image image="631860" img_size="full" alignment="center" onclick="cust
 om_link" img_link_target="_blank" link="http://www.Nuvisionfederal.com"][/
 vc_column_inner][vc_column_inner width="1/3"][vc_empty_space height="20px"
 ][vc_single_image image="631844" img_size="full" alignment="center" onclic
 k="custom_link" img_link_target="_blank" link="http://www.bianchiwine.com"
 ][/vc_column_inner][vc_column_inner width="1/3"][vc_empty_space height="20
 px"][vc_single_image image="631859" img_size="full" alignment="center" onc
 lick="custom_link" img_link_target="_blank" link="http://www.glossyskinlou
 nge.com"][/vc_column_inner][/vc_row_inner][vc_row_inner][vc_column_inner w
 idth="1/3"][/vc_column_inner][vc_column_inner width="1/3"][vc_single_image
  image="631843" img_size="full" alignment="center" onclick="custom_link" i
 mg_link_target="_blank" link="https://www.atelierwinstontragico.com/home"]
 [/vc_column_inner][vc_column_inner width="1/3"][/vc_column_inner][/vc_row_
 inner][vc_separator][/vc_column][/vc_row][vc_row disable_element="yes"][vc
 _column][vc_separator][vc_column_text]\nTable Sponsors\n[/vc_column_text][
 vc_row_inner][vc_column_inner width="1/3"][vc_single_image image="625334" 
 img_size="full" alignment="center" onclick="custom_link" img_link_target="
 _blank" link="http://www.surflinemedia.com"][/vc_column_inner][vc_column_i
 nner width="1/3"][vc_single_image image="624948" alignment="center" onclic
 k="custom_link" img_link_target="_blank" link="http://www.graphicwise.com"
 ][/vc_column_inner][vc_column_inner width="1/3"][vc_single_image image="62
 5788" img_size="full" alignment="center" onclick="custom_link" img_link_ta
 rget="_blank" link="http://www.artjourneybyshila.com"][/vc_column_inner][/
 vc_row_inner][vc_row_inner][vc_column_inner width="1/3"][vc_single_image i
 mage="625238" img_size="full" alignment="center" onclick="custom_link" lin
 k="http://www.amityhealthdpc.com"][/vc_column_inner][vc_column_inner width
 ="1/3"][vc_single_image image="625239" img_size="full" alignment="center" 
 onclick="custom_link" link="http://www.heartfeltscreening.org"][/vc_column
 _inner][vc_column_inner width="1/3"][vc_single_image image="625252" img_si
 ze="full" alignment="center" onclick="custom_link" link="http://www.calpro
 accountants.com"][/vc_column_inner][/vc_row_inner][vc_row_inner][vc_column
 _inner width="1/3"][vc_single_image image="625195" img_size="full" alignme
 nt="center" onclick="custom_link" img_link_target="_blank" link="http://ww
 w.travelbta.com"][/vc_column_inner][vc_column_inner width="1/3"][vc_single
 _image image="625266" img_size="150x150" alignment="center" onclick="custo
 m_link" img_link_target="_blank" link="https://www.ultraredlighttherapy.co
 m/"][/vc_column_inner][vc_column_inner width="1/3"][vc_single_image image=
 "625267" img_size="full" alignment="center" onclick="custom_link" img_link
 _target="_blank" link="https://www.cosmeticare.com"][/vc_column_inner][/vc
 _row_inner][vc_row_inner][vc_column_inner width="1/3"][vc_single_image ima
 ge="625272" img_size="full" alignment="center" onclick="custom_link" img_l
 ink_target="_blank" link="http://www.strikeworks.com"][/vc_column_inner][v
 c_column_inner width="1/3"][vc_single_image image="625292" img_size="full"
  alignment="center" onclick="custom_link" img_link_target="_blank" link="h
 ttp://www.flagian.com"][/vc_column_inner][vc_column_inner width="1/3"][vc_
 single_image image="625293" img_size="150x150" alignment="center" onclick=
 "custom_link" img_link_target="_blank" link="https://harbormesalionsclub.c
 om/"][/vc_column_inner][/vc_row_inner][vc_row_inner][vc_column_inner width
 ="1/3"][vc_single_image image="625301" img_size="full" alignment="center" 
 onclick="custom_link" img_link_target="_blank" link="https://chattertoninc
 .com/"][/vc_column_inner][vc_column_inner width="1/3"][vc_single_image ima
 ge="625313" img_size="full" alignment="center" onclick="custom_link" img_l
 ink_target="_blank" link="https://WWW.HWCG.COM"][/vc_column_inner][vc_colu
 mn_inner width="1/3"][vc_single_image image="625324" img_size="150x150" al
 ignment="center" onclick="custom_link" img_link_target="_blank" link="http
 s://www.aabchamber.org"][/vc_column_inner][/vc_row_inner][vc_row_inner][vc
 _column_inner width="1/3"][vc_single_image image="624928" img_size="full" 
 alignment="center" onclick="custom_link" link="http://www.comfortkeepers.c
 om"][/vc_column_inner][vc_column_inner width="1/3"][vc_single_image image=
 "625335" img_size="full" alignment="center" onclick="custom_link" link="ma
 ilto:bradeyjameson@gmail.com"][/vc_column_inner][vc_column_inner width="1/
 3"][vc_single_image image="625343" img_size="full" alignment="center" oncl
 ick="custom_link" link="http://www.ultimatecontour.com"][/vc_column_inner]
 [/vc_row_inner][vc_row_inner][vc_column_inner width="1/3"][vc_single_image
  image="625778" img_size="full" alignment="center" onclick="custom_link" l
 ink="http://www.southcountycarts.com"][/vc_column_inner][vc_column_inner w
 idth="1/3"][/vc_column_inner][vc_column_inner width="1/3"][/vc_column_inne
 r][/vc_row_inner][vc_separator][/vc_column][/vc_row][vc_row][vc_column][vc
 _column_text]\nMembers: $60 • Potential members: $75\nReservations are R
 equired. (Pay online)\nPLEASE NOTE! Check-in is from 5:00 pm to 5:45 pm.\n
 The boat leaves the dock at 6:30 pm sharp for the cruise and returns at 8:
 30 pm.\nParking is at 2400 W. Coast Highway.\nThe Boat (City Cruises) is a
 cross the street at 2431 W. Coast Hwy.\nUse the public lots adjacent to Av
 on Street from Tustin Ave. or Riverside Ave. (from PCH)\nStreet parking (m
 eter pay\, pay at the kiosk or use ParkMobile App)\n[/vc_column_text][vc_b
 tn title="CLICK HERE FOR PARKING INFO" color="primary" size="lg" align="ce
 nter" i_icon_fontawesome="fas fa-car-side" add_icon="true" link="url:https
 %3A%2F%2Fwww.newportbeach.com%2Fwp-content%2Fuploads%2F2025%2F09%2FParking
 -Quad-Chamber-Sunset-Cruise.pdf|target:_blank"][/vc_column][/vc_row][vc_ro
 w][vc_column][gravityform id="354" title="false" description="false" ajax=
 "false"][/vc_column][/vc_row]
ATTACH;FMTTYPE=image/jpeg:https://www.newportbeach.com/wp-content/uploads/
 2025/09/Mixer-Quad-Chamber-Cruise-October-2025-Endless-Dreams-300.jpg
CATEGORIES:Chamber Events,Featured
LOCATION:City Experiences\, 2400 West Coast Hwy\, Newport Beach\, CA\, 9266
 3\, United States
X-APPLE-STRUCTURED-LOCATION;VALUE=URI;X-ADDRESS=2400 West Coast Hwy\, Newpo
 rt Beach\, CA\, 92663\, United States;X-APPLE-RADIUS=100;X-TITLE=City Expe
 riences:geo:0,0
END:VEVENT
BEGIN:VTIMEZONE
TZID:America/Los_Angeles
X-LIC-LOCATION:America/Los_Angeles
BEGIN:DAYLIGHT
DTSTART:20250309T030000
TZOFFSETFROM:-0800
TZOFFSETTO:-0700
TZNAME:PDT
END:DAYLIGHT
END:VTIMEZONE
END:VCALENDAR