BEGIN:VCALENDAR
VERSION:2.0
PRODID:-//wp-events-plugin.com//7.0.5//EN
TZID:America/Los_Angeles
X-WR-TIMEZONE:America/Los_Angeles
BEGIN:VEVENT
UID:2601@newportbeach.com
DTSTART;TZID=America/Los_Angeles:20260416T143000
DTEND;TZID=America/Los_Angeles:20260416T163000
DTSTAMP:20260402T175401Z
URL:https://www.newportbeach.com/events/private-high-school-open-house/
SUMMARY:Private High School Open House
DESCRIPTION:[vc_row][vc_column][vc_column_text]Join us for an Open House at
  Concord Preparatory School\, a private college-preparatory high school lo
 cated on the border of Costa Mesa and Newport Beach. This is a great oppor
 tunity for families to learn more about our personalized academic approach
  and Early College dual enrollment program. During the event\, you will ha
 ve the opportunity to meet our principal and staff\, explore our academic 
 programs\, tour our beautiful campus\, enjoy light refreshments\, and ask 
 questions. We look forward to welcoming you and supporting your student’
 s journey toward high school and beyond.\n\nPlease RSVP by scanning the QR
  code on the event flyer or clicking here.[/vc_column_text][vc_column_tex
 t][/vc_column_text][vc_single_image image="633524" img_size="full" alignme
 nt="center"][/vc_column][/vc_row]
ATTACH;FMTTYPE=image/jpeg:https://www.newportbeach.com/wp-content/uploads/
 2026/03/Open-House-Invitation.png
CATEGORIES:Local Events
LOCATION:Concord Preparatory School\, 3333 Harbor Blvd\, Costa Mesa\, CA\, 
 92626-1545\, United States
X-APPLE-STRUCTURED-LOCATION;VALUE=URI;X-ADDRESS=3333 Harbor Blvd\, Costa Me
 sa\, CA\, 92626-1545\, United States;X-APPLE-RADIUS=100;X-TITLE=Concord Pr
 eparatory School:geo:0,0
END:VEVENT
BEGIN:VTIMEZONE
TZID:America/Los_Angeles
X-LIC-LOCATION:America/Los_Angeles
BEGIN:DAYLIGHT
DTSTART:20260308T030000
TZOFFSETFROM:-0800
TZOFFSETTO:-0700
TZNAME:PDT
END:DAYLIGHT
END:VTIMEZONE
END:VCALENDAR