BEGIN:VCALENDAR
VERSION:2.0
PRODID:-//wp-events-plugin.com//7.0.5//EN
TZID:America/Los_Angeles
X-WR-TIMEZONE:America/Los_Angeles
BEGIN:VEVENT
UID:2034@newportbeach.com
DTSTART;TZID=America/Los_Angeles:20231211T183000
DTEND;TZID=America/Los_Angeles:20231211T213000
DTSTAMP:20231208T204120Z
URL:https://www.newportbeach.com/events/preview-night-christmas-boat-parad
 e-premier-dinner-cruise-with-city-cruises/
SUMMARY:Preview Night-Christmas Boat Parade Premier Dinner Cruise with City
  Cruises
DESCRIPTION:[vc_row][vc_column][vc_column_text]\nPreview Night-Christmas Bo
 at Parade Premier Dinner Cruise\nDecember 11\, 2023\, Boarding Time: 6:30p
 m | Cruise: 7:00pm-9:30pm\n[/vc_column_text][/vc_column][/vc_row][vc_row][
 vc_column][vc_single_image image="621792" img_size="full" alignment="cente
 r"][/vc_column][/vc_row][vc_row][vc_column][vc_column_text]\nBeat the "par
 ade crowds" and see the harbor\, homes\, and boats decorated with holiday 
 lights and decor in preparation for the Annual Newport Beach Christmas Boa
 t Parade. Whether you're cruising the week before or on the day of the par
 ade\, you're in for a light show like never before. Feast your eyes on the
  festively decorated yachts and waterfront homes\, wine and dine under the
  twinkling stars.\n[/vc_column_text][/vc_column][/vc_row][vc_row][vc_colum
 n][vc_btn title="Book Now" color="primary" align="center" link="url:https%
 3A%2F%2Fwww.cityexperiences.com%2Fnewport-beach%2Fcity-cruises%2Fpreview-n
 ight-parade-lights-dinner%2F|target:_blank"][/vc_column][/vc_row]
ATTACH;FMTTYPE=image/jpeg:https://www.newportbeach.com/wp-content/uploads/
 2023/12/CC-Logo-RGB-Stacked-FullColor-trans.png
CATEGORIES:Local Events
LOCATION:City Cruises\, 2431 West Coast Hwy\, Newport Beach\, CA\, 92663\, 
 United States
X-APPLE-STRUCTURED-LOCATION;VALUE=URI;X-ADDRESS=2431 West Coast Hwy\, Newpo
 rt Beach\, CA\, 92663\, United States;X-APPLE-RADIUS=100;X-TITLE=City Crui
 ses:geo:0,0
END:VEVENT
BEGIN:VTIMEZONE
TZID:America/Los_Angeles
X-LIC-LOCATION:America/Los_Angeles
BEGIN:STANDARD
DTSTART:20231105T010000
TZOFFSETFROM:-0700
TZOFFSETTO:-0800
TZNAME:PST
END:STANDARD
END:VTIMEZONE
END:VCALENDAR