BEGIN:VCALENDAR
VERSION:2.0
PRODID:-//wp-events-plugin.com//7.0.5//EN
TZID:America/Los_Angeles
X-WR-TIMEZONE:America/Los_Angeles
BEGIN:VEVENT
UID:2607@newportbeach.com
DTSTART;TZID=America/Los_Angeles:20260514T180000
DTEND;TZID=America/Los_Angeles:20260514T200000
DTSTAMP:20260406T165928Z
URL:https://www.newportbeach.com/events/passport-to-your-next-chapter/
SUMMARY:Passport to Your Next Chapter™
DESCRIPTION:[vc_row][vc_column][vc_btn title="RSVP HERE" color="danger" ali
 gn="center" link="url:https%3A%2F%2Fwww.loveluxily.com%2Fevent-details%2Fp
 assport-to-your-next-chapter"][vc_column_text][/vc_column_text][/vc_column
 ][/vc_row]
ATTACH;FMTTYPE=image/jpeg:https://www.newportbeach.com/wp-content/uploads/
 2026/04/Travel-Journal-Experience.png
CATEGORIES:Local Events
END:VEVENT
BEGIN:VTIMEZONE
TZID:America/Los_Angeles
X-LIC-LOCATION:America/Los_Angeles
BEGIN:DAYLIGHT
DTSTART:20260308T030000
TZOFFSETFROM:-0800
TZOFFSETTO:-0700
TZNAME:PDT
END:DAYLIGHT
END:VTIMEZONE
END:VCALENDAR