BEGIN:VCALENDAR
VERSION:2.0
PRODID:-//wp-events-plugin.com//7.0.5//EN
TZID:America/Los_Angeles
X-WR-TIMEZONE:America/Los_Angeles
BEGIN:VEVENT
UID:2273@newportbeach.com
DTSTART;TZID=America/Los_Angeles:20250416T090000
DTEND;TZID=America/Los_Angeles:20250416T130000
DTSTAMP:20250124T192901Z
URL:https://www.newportbeach.com/events/orange-county-supplier-outreach-ev
 ent/
SUMMARY:Orange County Supplier Outreach Event
DESCRIPTION:[vc_row][vc_column][vc_single_image image="626936" img_size="Fu
 ll" onclick="custom_link" link="https://cpo.syncevent.vip/event/2025suppli
 eroutreach"][vc_btn title="Register Here" style="3d" color="orange" link="
 url:https%3A%2F%2Fcpo.syncevent.vip%2Fevent%2F2025supplieroutreach|target:
 _blank"][/vc_column][/vc_row]
ATTACH;FMTTYPE=image/jpeg:https://www.newportbeach.com/wp-content/uploads/
 2025/01/2025-Supplier-Outreach-Flyer-1-pdf.jpg
CATEGORIES:Local Events
LOCATION:Anaheim Convention Center\, 800 W Katella Ave.\, Anaheim\, CA\, 92
 802\, United States
X-APPLE-STRUCTURED-LOCATION;VALUE=URI;X-ADDRESS=800 W Katella Ave.\, Anahei
 m\, CA\, 92802\, United States;X-APPLE-RADIUS=100;X-TITLE=Anaheim Conventi
 on Center:geo:0,0
END:VEVENT
BEGIN:VTIMEZONE
TZID:America/Los_Angeles
X-LIC-LOCATION:America/Los_Angeles
BEGIN:DAYLIGHT
DTSTART:20250309T030000
TZOFFSETFROM:-0800
TZOFFSETTO:-0700
TZNAME:PDT
END:DAYLIGHT
END:VTIMEZONE
END:VCALENDAR