BEGIN:VCALENDAR
VERSION:2.0
PRODID:-//wp-events-plugin.com//7.0.5//EN
TZID:America/Los_Angeles
X-WR-TIMEZONE:America/Los_Angeles
BEGIN:VEVENT
UID:2033@newportbeach.com
DTSTART;TZID=America/Los_Angeles:20240113T100000
DTEND;TZID=America/Los_Angeles:20240113T160000
DTSTAMP:20231214T185500Z
URL:https://www.newportbeach.com/events/orange-county-school-of-the-arts-c
 onnects-community-arts-festival/
SUMMARY:Orange County School of the Arts Connects Community Arts Festival
DESCRIPTION:[vc_row][vc_column][vc_column_text]\nJoin Orange County School 
 of the Arts (OCSA) for their Community Arts Festival - an all-day program 
 celebrating the arts\, directed towards children of all abilities ages 5-1
 1!\n[/vc_column_text][/vc_column][/vc_row][vc_row][vc_column][vc_gallery i
 nterval="10" images="621855\,621778\,621777" img_size="full"][/vc_column][
 /vc_row][vc_row][vc_column][vc_column_text]\nInterested in sponsoring this
  event? Click here to view different levels of sponsorships and their bene
 fits. Email Greg McCollum\, Director of Corporate &amp\; Business Relation
 s at gregory.mccollum@ocsarts.net or call at (714) 560-0900 ext. 6616\n[/v
 c_column_text][/vc_column][/vc_row][vc_row][vc_column][vc_btn title="For M
 ore Info" color="primary" align="center" link="url:https%3A%2F%2Fwww.ocsar
 ts.net%2Fcommunityfestival|target:_blank"][/vc_column][/vc_row]
ATTACH;FMTTYPE=image/jpeg:https://www.newportbeach.com/wp-content/uploads/
 2023/04/OCSA-Logo_Square-.png
CATEGORIES:Local Events
LOCATION:The Callero Family Foundation Plaza\, 1010 N. Main St.\, Santa Ana
 \, CA\, 92701\, United States
X-APPLE-STRUCTURED-LOCATION;VALUE=URI;X-ADDRESS=1010 N. Main St.\, Santa An
 a\, CA\, 92701\, United States;X-APPLE-RADIUS=100;X-TITLE=The Callero Fami
 ly Foundation Plaza:geo:0,0
END:VEVENT
BEGIN:VTIMEZONE
TZID:America/Los_Angeles
X-LIC-LOCATION:America/Los_Angeles
BEGIN:STANDARD
DTSTART:20231105T010000
TZOFFSETFROM:-0700
TZOFFSETTO:-0800
TZNAME:PST
END:STANDARD
END:VTIMEZONE
END:VCALENDAR