BEGIN:VCALENDAR
VERSION:2.0
PRODID:-//wp-events-plugin.com//7.0.5//EN
TZID:America/Los_Angeles
X-WR-TIMEZONE:America/Los_Angeles
BEGIN:VEVENT
UID:1983@newportbeach.com
DTSTART;TZID=America/Los_Angeles:20230906T163000
DTEND;TZID=America/Los_Angeles:20230906T183000
DTSTAMP:20230828T234730Z
URL:https://www.newportbeach.com/events/onehope-wine-holiday-open-house/
SUMMARY:ONEHOPE WINE Holiday Open House
DESCRIPTION:[vc_row][vc_column][vc_column_text]\nJoin the ONEHOPE Wine Gift
 ing Team for a pre-holiday happy hour in our OC Office!\n[/vc_column_text]
 [/vc_column][/vc_row][vc_row][vc_column][vc_single_image image="619604" im
 g_size="full" alignment="center"][/vc_column][/vc_row][vc_row][vc_column][
 vc_column_text]We'll have sips\, snacks\, and the chance to see our newest
  gifts. Win prizes by putting for wine and testing your skills at our blin
 d tasting station. Plus\, check out our Gifting Early Bird Promotion below
 \, available to Chamber members exclusively through 10/15 (normally 9/29
 ):\n\n&nbsp\;\n\n50-99 Gifts: 10% discount\, $10 shipping (50% off)\n\n100
 + Gifts: 15% discount\, $10 shipping (50% off)\n\n[/vc_column_text][/vc_co
 lumn][/vc_row][vc_row][vc_column][vc_btn title="RSVP Here" color="danger" 
 align="center" link="url:https%3A%2F%2Fwww.paperlesspost.com%2Fgo%2FJNeKVA
 NC3ZRZyBfN983JR|target:_blank"][/vc_column][/vc_row]
ATTACH;FMTTYPE=image/jpeg:https://www.newportbeach.com/wp-content/uploads/
 2023/04/ONEHOPE-Custom-Bottles.png
CATEGORIES:Local Events
LOCATION:OneHope Wine\, 3310 S. Fairview St\, Santa Ana\, CA\, 92704\, Unit
 ed States
X-APPLE-STRUCTURED-LOCATION;VALUE=URI;X-ADDRESS=3310 S. Fairview St\, Santa
  Ana\, CA\, 92704\, United States;X-APPLE-RADIUS=100;X-TITLE=OneHope Wine:
 geo:0,0
END:VEVENT
BEGIN:VTIMEZONE
TZID:America/Los_Angeles
X-LIC-LOCATION:America/Los_Angeles
BEGIN:DAYLIGHT
DTSTART:20230312T030000
TZOFFSETFROM:-0800
TZOFFSETTO:-0700
TZNAME:PDT
END:DAYLIGHT
END:VTIMEZONE
END:VCALENDAR