BEGIN:VCALENDAR
VERSION:2.0
PRODID:-//wp-events-plugin.com//7.0.5//EN
TZID:America/Los_Angeles
X-WR-TIMEZONE:America/Los_Angeles
BEGIN:VEVENT
UID:1657@newportbeach.com
DTSTART;TZID=America/Los_Angeles:20211027T170000
DTEND;TZID=America/Los_Angeles:20211027T193000
DTSTAMP:20211015T200830Z
URL:https://www.newportbeach.com/events/october-2021-sunset-networking-mix
 er-sea-event-endless-dreams/
SUMMARY:October 2021 Sunset Networking Mixer - Sea Event - Endless Dreams
DESCRIPTION:[vc_row][vc_column][vc_single_image image="572682" img_size="fu
 ll" alignment="center"][/vc_column][/vc_row][vc_row][vc_column][vc_column_
 text]\nMembers: $40 • Potential members: $45\nReservations are Required.
  (Pay online)\nPLEASE NOTE! The boat leaves the dock at 5:45 sharp for the
  cruise and returns at 7:30 pm.\nWelcome aboard the diamond in the Newport
  Beach fleet - the largest charter yacht in the harbor on three spacious d
 ecks. Endless Dreams has been featured on: CSI: Miami\, HBO's Entourage\, 
 Showtime's Dexter\, and the KTLA Morning Show. Enjoy delicious food and be
 verages\, soak in the beautiful ocean views and network with members from 
 both Chambers.\nParking\n• Use the public parking lots at 200 or 208 Tus
 tin Ave.\n• $10 onsite lot at 2431 West Coast Highway until full\n• St
 reet parking (meter pay or pay at the kiosk)\n[/vc_column_text][/vc_column
 ][/vc_row][vc_row][vc_column][gravityform id="115" title="false" descripti
 on="false" ajax="false"][/vc_column][/vc_row]
ATTACH;FMTTYPE=image/jpeg:https://www.newportbeach.com/wp-content/uploads/
 2015/10/endlessdreams.jpg
CATEGORIES:Chamber Events,Featured
END:VEVENT
BEGIN:VTIMEZONE
TZID:America/Los_Angeles
X-LIC-LOCATION:America/Los_Angeles
BEGIN:DAYLIGHT
DTSTART:20210314T030000
TZOFFSETFROM:-0800
TZOFFSETTO:-0700
TZNAME:PDT
END:DAYLIGHT
END:VTIMEZONE
END:VCALENDAR