BEGIN:VCALENDAR
VERSION:2.0
PRODID:-//wp-events-plugin.com//7.0.5//EN
TZID:America/Los_Angeles
X-WR-TIMEZONE:America/Los_Angeles
BEGIN:VEVENT
UID:2589@newportbeach.com
DTSTART;TZID=America/Los_Angeles:20260507T160000
DTEND;TZID=America/Los_Angeles:20260507T200000
DTSTAMP:20260416T215045Z
URL:https://www.newportbeach.com/events/oc-business-expo-2026/
SUMMARY:OC BUSINESS EXPO 2026
DESCRIPTION:[vc_row][vc_column][vc_btn title="REGISTER HERE" color="success
 " align="center" link="url:https%3A%2F%2Feventup.ai%2Fevent%2F6998bf6177f1
 91d697546f46"][vc_single_image image="633397" img_size="full" alignment="c
 enter"][vc_single_image image="633727" img_size="full"][/vc_column][/vc_ro
 w]
ATTACH;FMTTYPE=image/jpeg:https://www.newportbeach.com/wp-content/uploads/
 2026/03/OC-Business-Expo-2026-Last-Flyer-pdf.jpg
CATEGORIES:Local Events
LOCATION:Renaissance Newport Beach Hotel\, 4500 Macarthur Blvd.\, Newport B
 each\, CA\, 92660\, United States
GEO:33.6674812;-117.86273640000002
X-APPLE-STRUCTURED-LOCATION;VALUE=URI;X-ADDRESS=4500 Macarthur Blvd.\, Newp
 ort Beach\, CA\, 92660\, United States;X-APPLE-RADIUS=100;X-TITLE=Renaissa
 nce Newport Beach Hotel:geo:33.6674812,-117.86273640000002
END:VEVENT
BEGIN:VTIMEZONE
TZID:America/Los_Angeles
X-LIC-LOCATION:America/Los_Angeles
BEGIN:DAYLIGHT
DTSTART:20260308T030000
TZOFFSETFROM:-0800
TZOFFSETTO:-0700
TZNAME:PDT
END:DAYLIGHT
END:VTIMEZONE
END:VCALENDAR