BEGIN:VCALENDAR
VERSION:2.0
PRODID:-//wp-events-plugin.com//7.0.5//EN
TZID:America/Los_Angeles
X-WR-TIMEZONE:America/Los_Angeles
BEGIN:VEVENT
UID:2081@newportbeach.com
DTSTART;TZID=America/Los_Angeles:20240317T110000
DTEND;TZID=America/Los_Angeles:20240317T180000
DTSTAMP:20240208T210619Z
URL:https://www.newportbeach.com/events/nowruz-festival-presented-by-irani
 an-american-chamber-of-commerce/
SUMMARY:Nowruz Festival Presented by Iranian American Chamber of Commerce
DESCRIPTION:[vc_row][vc_column][vc_single_image image="622599" img_size="fu
 ll" alignment="center" onclick="custom_link" img_link_target="_blank" link
 ="https://www.ociacc.com/event-calendar/#!event/2024/3/17/nowruz-festival-
 market-hilton-irvine-sunday-03-17-24-11-to-6-pm "][/vc_column][/vc_row][vc
 _row][vc_column][vc_column_text]\nNowruz Festival is a vibrant celebration
  of the Iranian New Year\, bringing together thousands of people to enjoy 
 cultural performances\, traditional food\, and a strong sense of inclusivi
 ty.\nNowruz Festival has been a cornerstone of cultural diversity and comm
 unity engagement in Orange County. It showcases the rich traditions of the
  Iranian community\, and also fosters a spirit of inclusion\, bringing peo
 ple from various backgrounds together to celebrate diversity.\n[/vc_column
 _text][/vc_column][/vc_row][vc_row][vc_column][vc_btn title="Register Here
 " color="primary" align="center" link="url:https%3A%2F%2Fwww.ociacc.com%2F
 event-calendar%2F%23!event%2F2024%2F3%2F17%2Fnowruz-festival-market-hilton
 -irvine-sunday-03-17-24-11-to-6-pm%20|target:_blank"][/vc_column][/vc_row]
ATTACH;FMTTYPE=image/jpeg:https://www.newportbeach.com/wp-content/uploads/
 2024/02/nowruz-festicalmarket-iran-chambr.png
CATEGORIES:Local Events
LOCATION:Hilton Irvine\, Orange County Airport\, 1880 MacArthur Blvd\, Irvi
 ne\, CA\, 92612\, United States
X-APPLE-STRUCTURED-LOCATION;VALUE=URI;X-ADDRESS=1880 MacArthur Blvd\, Irvin
 e\, CA\, 92612\, United States;X-APPLE-RADIUS=100;X-TITLE=Hilton Irvine\, 
 Orange County Airport:geo:0,0
END:VEVENT
BEGIN:VTIMEZONE
TZID:America/Los_Angeles
X-LIC-LOCATION:America/Los_Angeles
BEGIN:DAYLIGHT
DTSTART:20240310T030000
TZOFFSETFROM:-0800
TZOFFSETTO:-0700
TZNAME:PDT
END:DAYLIGHT
END:VTIMEZONE
END:VCALENDAR