BEGIN:VCALENDAR
VERSION:2.0
PRODID:-//wp-events-plugin.com//7.0.5//EN
TZID:America/Los_Angeles
X-WR-TIMEZONE:America/Los_Angeles
BEGIN:VEVENT
UID:2003@newportbeach.com
DTSTART;TZID=America/Los_Angeles:20231102T070000
DTEND;TZID=America/Los_Angeles:20231102T083000
DTSTAMP:20231025T172133Z
URL:https://www.newportbeach.com/events/november-wake-up-newport-the-silen
 t-tide-the-economic-impact-of-fentanyl-in-newport-beach/
SUMMARY:November Wake Up!  Newport - The Silent Tide...The Economic Impact 
 of Fentanyl in Newport Beach
DESCRIPTION:[vc_row][vc_column][vc_single_image image="620851" img_size="fu
 ll" alignment="center" onclick="img_link_large"][/vc_column][/vc_row][vc_r
 ow disable_element="yes"][vc_column][vc_column_text]\nBreakfast Treats Pro
 vided\n[/vc_column_text][vc_column_text][/vc_column_text][/vc_column][/vc_
 row][vc_row disable_element="yes"][vc_column width="1/2"][vc_column_text]\
 nBreakfast Treats Provided\n[/vc_column_text][vc_column_text][/vc_column_t
 ext][/vc_column][vc_column width="1/2"][vc_column_text]\nBreakfast Sponsor
 ed by\n[/vc_column_text][vc_column_text][/vc_column_text][/vc_column][/vc_
 row][vc_row][vc_column][vc_separator][/vc_column][/vc_row][vc_row][vc_colu
 mn][vc_column_text]\nThis event is free to the public\, but please make re
 servations so we can plan for food and seating.\n[/vc_column_text][/vc_col
 umn][/vc_row][vc_row][vc_column][gravityform id="222" title="false" descri
 ption="false" ajax="false"][/vc_column][/vc_row][vc_row][vc_column][vc_sep
 arator][/vc_column][/vc_row][vc_row][vc_column][vc_column_text css=".vc_cu
 stom_1698254447806{border-top-width: 10px !important\;border-top-color: #1
 41414 !important\;}"]Janice M. Celeste has an impressive career advocating
  for children and families. Her passion for helping needy families began w
 hen she worked as an early childhood specialist and parent educator at Chi
 ldren’s Hospital of Philadelphia. During this time\, she helped families
  struggling with addiction to ensure their children met their developmenta
 l milestones. This early position launched her career as an advocate for c
 hildren and their families.\n\nThroughout her career\, Celeste has worked 
 in various fields\, including public school teaching\, an award-winning au
 thor\, broadcast communications\, as a journalist\, and executive position
 s in the publishing industry. However\, her commitment to ending the fenta
 nyl epidemic stands out as a cause she is particularly passionate about ch
 ampioning.\n\nWith a degree in early childhood education\, organizational 
 management\, and an MBA\, Celeste brings a wealth of knowledge and experti
 se to all her endeavors. Currently residing in Orange County\, she is a va
 luable asset to the fight against the fentanyl crisis.[/vc_column_text][/v
 c_column][/vc_row][vc_row disable_element="yes"][vc_column][vc_column_text
 ]\nBreakfast treats will be provided.\n[/vc_column_text][/vc_column][/vc_r
 ow][vc_row disable_element="yes"][vc_column][vc_column_text]\nDiscussion t
 opics will include:\n• USMCA\n• Tariffs\n• Infrastructure\n• Immig
 ration\n[/vc_column_text][/vc_column][/vc_row]
ATTACH;FMTTYPE=image/jpeg:https://www.newportbeach.com/wp-content/uploads/
 2023/10/WakeUpNewport-November-2-2023-Fentanyl-300x300-1.jpg
CATEGORIES:Chamber Events,Featured
LOCATION:Newport Beach Public Library (Friends Room)\, 1000 Avocado Ave.\, 
 Newport Beach\, CA\, 92660\, United States
GEO:33.6078202;-117.87315109999997
X-APPLE-STRUCTURED-LOCATION;VALUE=URI;X-ADDRESS=1000 Avocado Ave.\, Newport
  Beach\, CA\, 92660\, United States;X-APPLE-RADIUS=100;X-TITLE=Newport Bea
 ch Public Library (Friends Room):geo:33.6078202,-117.87315109999997
END:VEVENT
BEGIN:VTIMEZONE
TZID:America/Los_Angeles
X-LIC-LOCATION:America/Los_Angeles
BEGIN:DAYLIGHT
DTSTART:20230312T030000
TZOFFSETFROM:-0800
TZOFFSETTO:-0700
TZNAME:PDT
END:DAYLIGHT
END:VTIMEZONE
END:VCALENDAR