BEGIN:VCALENDAR
VERSION:2.0
PRODID:-//wp-events-plugin.com//7.0.5//EN
TZID:America/Los_Angeles
X-WR-TIMEZONE:America/Los_Angeles
BEGIN:VEVENT
UID:2621@newportbeach.com
DTSTART;TZID=America/Los_Angeles:20260509T100000
DTEND;TZID=America/Los_Angeles:20260509T140000
DTSTAMP:20260421T161045Z
URL:https://www.newportbeach.com/events/newport-harbor-lawn-bowling-open-h
 ouse-event/
SUMMARY:Newport Harbor Lawn Bowling Open House event
DESCRIPTION:
ATTACH;FMTTYPE=image/jpeg:https://www.newportbeach.com/wp-content/uploads/
 2026/04/NHLBC-Open-House-Flyer-Digital-pdf.jpg
CATEGORIES:Local Events
LOCATION:Newport Harbor Lawn Bowling Club\, 1550 Crown Drive North\, Corona
  del Mar\, CA\, 92660\, United States
X-APPLE-STRUCTURED-LOCATION;VALUE=URI;X-ADDRESS=1550 Crown Drive North\, Co
 rona del Mar\, CA\, 92660\, United States;X-APPLE-RADIUS=100;X-TITLE=Newpo
 rt Harbor Lawn Bowling Club:geo:0,0
END:VEVENT
BEGIN:VTIMEZONE
TZID:America/Los_Angeles
X-LIC-LOCATION:America/Los_Angeles
BEGIN:DAYLIGHT
DTSTART:20260308T030000
TZOFFSETFROM:-0800
TZOFFSETTO:-0700
TZNAME:PDT
END:DAYLIGHT
END:VTIMEZONE
END:VCALENDAR