BEGIN:VCALENDAR
VERSION:2.0
PRODID:-//wp-events-plugin.com//7.0.5//EN
TZID:America/Los_Angeles
X-WR-TIMEZONE:America/Los_Angeles
BEGIN:VEVENT
UID:576@newportbeach.com
DTSTART;TZID=America/Los_Angeles:20170427T100000
DTEND;TZID=America/Los_Angeles:20170430T190000
DTSTAMP:20170321T235409Z
URL:https://www.newportbeach.com/events/newport-boat-show-2/
SUMMARY:Newport Boat Show
DESCRIPTION:Plan now to join us as we celebrate our 44th year as the premi
 er yacht show in the West. This year’s show will feature the newest ves
 sels to reach the Western United States! Plus\, there will be a whole host
  of exhibitors on hand shoreside and in the water to showcase innovative 
 products and services that make owning and operating a big boat more enjo
 yable.\n\nNewport is the one show that features big boats and trawlers. W
 ith more than 200 boats on display and no limit on the size of bigger ves
 sels\, this is the one show that serious buyers won’t want to miss.\n\n
 Beautiful Newport Beach\, California is the ultimate location for big boa
 ts. Spend the day touring some of the finest yachts in the world at Lido 
 Village where there’s free off-site parking and shuttle service. No oth
 er show in the West can compare to everything the Newport Boat show has t
 o offer.  For more information visit http://www.newportinwaterboatshow.c
 o\n\nShow Hours:\n\nThurs. April 27\; Noon – 7pm\nFri. April 28\; 10am 
 – 7pm\nSat. April 29\; 10am – 7pm\nSun. April 30\; 10am – 5pm\n\nSHO
 W ADMISSION\n$15 for Adults\nFREE for Children\, 12 years and younger\n$5 
 discount with Military ID\nIncludes access to Free Offsite Parking and S
 huttle
ATTACH;FMTTYPE=image/jpeg:https://www.newportbeach.com/wp-content/uploads/
 2017/03/Capture-6.png
CATEGORIES:Local Events
LOCATION:Lido Marina Village\, 3424 Via Lido\, Newport Beach\, United State
 s
GEO:33.6184763;-117.9291503
X-APPLE-STRUCTURED-LOCATION;VALUE=URI;X-ADDRESS=3424 Via Lido\, Newport Bea
 ch\, United States;X-APPLE-RADIUS=100;X-TITLE=Lido Marina Village:geo:33.6
 184763,-117.9291503
END:VEVENT
BEGIN:VTIMEZONE
TZID:America/Los_Angeles
X-LIC-LOCATION:America/Los_Angeles
BEGIN:DAYLIGHT
DTSTART:20170312T030000
TZOFFSETFROM:-0800
TZOFFSETTO:-0700
TZNAME:PDT
END:DAYLIGHT
END:VTIMEZONE
END:VCALENDAR