BEGIN:VCALENDAR
VERSION:2.0
PRODID:-//wp-events-plugin.com//7.0.5//EN
TZID:America/Los_Angeles
X-WR-TIMEZONE:America/Los_Angeles
BEGIN:VEVENT
UID:2524@newportbeach.com
DTSTART;TZID=America/Los_Angeles:20260114T180000
DTEND;TZID=America/Los_Angeles:20260114T200000
DTSTAMP:20260110T005617Z
URL:https://www.newportbeach.com/events/newport-beach-restaurant-week-vip-
 opening-night-kickoff-party/
SUMMARY:Newport Beach Restaurant Week VIP Kick Off Party
DESCRIPTION:[vc_row][vc_column][vc_row_inner][vc_column_inner][vc_column_te
 xt]\nDue to popular response\, reservations for the VIP Kick Off Party are
  now closed.\nA waiting list has been established. Please call the Chamber
  at 949-729-4400 to be included on this list.\n[/vc_column_text][/vc_colum
 n_inner][/vc_row_inner][vc_single_image image="632569" img_size="full" ali
 gnment="center" onclick="custom_link" link="http://www.restaurantweeknb.co
 m"][vc_custom_heading text="Newport Beach Restaurant Week" font_container=
 "tag:h2|font_size:36|text_align:center" google_fonts="font_family:Righteou
 s%3Aregular|font_style:400%20regular%3A400%3Anormal"][vc_separator color="
 mulled_wine" border_width="2"][vc_single_image image="632639" img_size="fu
 ll" alignment="center" onclick="custom_link" link="http://www.restaurantwe
 eknb.com"][vc_custom_heading text="VIP Opening Night\nKickoff Party" font_
 container="tag:h2|font_size:60|text_align:center" google_fonts="font_famil
 y:Righteous%3Aregular|font_style:400%20regular%3A400%3Anormal"][/vc_column
 ][/vc_row][vc_row][vc_column][vc_column_text]\nWednesday\, January 14\, 20
 26\n6:00 PM – 8:00 PM\nPorsche Newport Beach\n445 E Coast Hwy\, Newport 
 Beach\, CA 92660\n[/vc_column_text][vc_row_inner][vc_column_inner][vc_colu
 mn_text]\nLimited number of advanced tickets\n$75 per person\nComplimentar
 y Valet Parking\nEntertainment | Cocktail Attire | 21 and over\n[/vc_colum
 n_text][/vc_column_inner][/vc_row_inner][/vc_column][/vc_row][vc_row][vc_c
 olumn][vc_single_image image="632647" img_size="large" alignment="center"]
 [vc_column_text]\nProceeds Benefit\n[/vc_column_text][/vc_column][/vc_row]
 [vc_row][vc_column][gravityform id="366" title="false" description="false"
  ajax="false"][/vc_column][/vc_row]
ATTACH;FMTTYPE=image/jpeg:https://www.newportbeach.com/wp-content/uploads/
 2025/12/600x600-VIP-Square.jpg
CATEGORIES:Chamber Events,Featured
LOCATION:Porsche Newport Beach\, 445 E Coast Hwy.\, Newport Beach\, CA\, 92
 660\, United States
X-APPLE-STRUCTURED-LOCATION;VALUE=URI;X-ADDRESS=445 E Coast Hwy.\, Newport 
 Beach\, CA\, 92660\, United States;X-APPLE-RADIUS=100;X-TITLE=Porsche Newp
 ort Beach:geo:0,0
END:VEVENT
BEGIN:VTIMEZONE
TZID:America/Los_Angeles
X-LIC-LOCATION:America/Los_Angeles
BEGIN:STANDARD
DTSTART:20251102T010000
TZOFFSETFROM:-0700
TZOFFSETTO:-0800
TZNAME:PST
END:STANDARD
END:VTIMEZONE
END:VCALENDAR