BEGIN:VCALENDAR
VERSION:2.0
PRODID:-//wp-events-plugin.com//7.0.5//EN
TZID:America/Los_Angeles
X-WR-TIMEZONE:America/Los_Angeles
BEGIN:VEVENT
UID:860@newportbeach.com
DTSTART;TZID=America/Los_Angeles;VALUE=DATE:20180520
DTEND;TZID=America/Los_Angeles;VALUE=DATE:20180521
DTSTAMP:20180205T182325Z
URL:https://www.newportbeach.com/events/newport-beach-pageants/
SUMMARY:Newport Beach Pageants
DESCRIPTION:
CATEGORIES:Local Events
LOCATION:The Duke Hotel\, 4500 MacArthur Blvd\, Newport Beach\, CA\, 92660\
 , United States
GEO:33.66726209999999;-117.86255069999999
X-APPLE-STRUCTURED-LOCATION;VALUE=URI;X-ADDRESS=4500 MacArthur Blvd\, Newpo
 rt Beach\, CA\, 92660\, United States;X-APPLE-RADIUS=100;X-TITLE=The Duke 
 Hotel:geo:33.66726209999999,-117.86255069999999
END:VEVENT
BEGIN:VTIMEZONE
TZID:America/Los_Angeles
X-LIC-LOCATION:America/Los_Angeles
BEGIN:DAYLIGHT
DTSTART:20180311T030000
TZOFFSETFROM:-0800
TZOFFSETTO:-0700
TZNAME:PDT
END:DAYLIGHT
END:VTIMEZONE
END:VCALENDAR