BEGIN:VCALENDAR
VERSION:2.0
PRODID:-//wp-events-plugin.com//7.0.5//EN
TZID:America/Los_Angeles
X-WR-TIMEZONE:America/Los_Angeles
BEGIN:VEVENT
UID:2564@newportbeach.com
DTSTART;TZID=America/Los_Angeles:20260312T180000
DTEND;TZID=America/Los_Angeles:20260312T213000
DTSTAMP:20260223T173925Z
URL:https://www.newportbeach.com/events/newport-beach-1-1-marines-foundati
 on-invites-you-to-mess-night/
SUMMARY:Newport Beach 1/1 Marines Foundation Invites You To: MESS NIGHT!
DESCRIPTION:[vc_row][vc_column][vc_single_image image="633131" img_size="fu
 ll" alignment="center" onclick="custom_link" img_link_target="_blank" link
 ="https://anc.apm.activecommunities.com/cnbreg/activity/search?activity_se
 lect_param=2&amp\;activity_keyword=Mess%20Night&amp\;viewMode=list"][/vc_c
 olumn][/vc_row][vc_row][vc_column][vc_btn title="Buy Tickets Here" color="
 danger" align="center" link="url:https%3A%2F%2Fanc.apm.activecommunities.c
 om%2Fcnbreg%2Factivity%2Fsearch%3Factivity_select_param%3D2%26activity_key
 word%3DMess%2520Night%26viewMode%3Dlist|target:_blank"][/vc_column][/vc_ro
 w]
ATTACH;FMTTYPE=image/jpeg:https://www.newportbeach.com/wp-content/uploads/
 2026/02/300x300-1-1-Mess-night-2026.jpg
CATEGORIES:Featured,Local Events
LOCATION:Balboa Bay Resort\, 1221 W. Coast Highway\, Newport Beach\, CA\, 9
 2663\, United States
GEO:33.615623;-117.914996
X-APPLE-STRUCTURED-LOCATION;VALUE=URI;X-ADDRESS=1221 W. Coast Highway\, New
 port Beach\, CA\, 92663\, United States;X-APPLE-RADIUS=100;X-TITLE=Balboa 
 Bay Resort:geo:33.615623,-117.914996
END:VEVENT
BEGIN:VTIMEZONE
TZID:America/Los_Angeles
X-LIC-LOCATION:America/Los_Angeles
BEGIN:DAYLIGHT
DTSTART:20260308T030000
TZOFFSETFROM:-0800
TZOFFSETTO:-0700
TZNAME:PDT
END:DAYLIGHT
END:VTIMEZONE
END:VCALENDAR