BEGIN:VCALENDAR
VERSION:2.0
PRODID:-//wp-events-plugin.com//7.0.5//EN
TZID:America/Los_Angeles
X-WR-TIMEZONE:America/Los_Angeles
BEGIN:VEVENT
UID:1701@newportbeach.com
DTSTART;TZID=America/Los_Angeles:20220407T150000
DTEND;TZID=America/Los_Angeles:20220407T180000
DTSTAMP:20220324T222722Z
URL:https://www.newportbeach.com/events/networking-mixer-at-pacifica-senio
 r-living-newport-mesa-memory-care/
SUMMARY:Networking Mixer at Pacifica Senior Living Newport Mesa\, Memory Ca
 re!
DESCRIPTION:[vc_row][vc_column][vc_column_text]\nEnjoy networking and come 
 meet the Pacifica Senior Living Newport Mesa Team!\n[/vc_column_text][/vc_
 column][/vc_row][vc_row][vc_column][vc_single_image image="595463" img_siz
 e="full" alignment="center"][/vc_column][/vc_row]
ATTACH;FMTTYPE=image/jpeg:https://www.newportbeach.com/wp-content/uploads/
 2022/03/pacifica_senior_living.jpg
CATEGORIES:Local Events
LOCATION:Pacifica Senior Living\, Newport Mesa\, 2891 Bear St.\, Costa Mesa
 \, CA\, 92626\, United States
X-APPLE-STRUCTURED-LOCATION;VALUE=URI;X-ADDRESS=2891 Bear St.\, Costa Mesa\
 , CA\, 92626\, United States;X-APPLE-RADIUS=100;X-TITLE=Pacifica Senior Li
 ving\, Newport Mesa:geo:0,0
END:VEVENT
BEGIN:VTIMEZONE
TZID:America/Los_Angeles
X-LIC-LOCATION:America/Los_Angeles
BEGIN:DAYLIGHT
DTSTART:20220313T030000
TZOFFSETFROM:-0800
TZOFFSETTO:-0700
TZNAME:PDT
END:DAYLIGHT
END:VTIMEZONE
END:VCALENDAR