BEGIN:VCALENDAR
VERSION:2.0
PRODID:-//wp-events-plugin.com//7.0.5//EN
TZID:America/Los_Angeles
X-WR-TIMEZONE:America/Los_Angeles
BEGIN:VEVENT
UID:163@newportbeach.com
DTSTART;TZID=America/Los_Angeles:20150218T113000
DTEND;TZID=America/Los_Angeles:20150218T133000
DTSTAMP:20150204T191824Z
URL:https://www.newportbeach.com/events/networking-luncheon-prepared-bette
 r-times/
SUMMARY:Networking Luncheon - Are You Prepared for Better Times?
DESCRIPTION:ARE YOU PREPARED FOR BETTER TIMES ?\n[caption id="attachment_11
 673" align="alignright" width="240"] Dennis Wright\, Assistant District Di
 rector\, Orange County Score[/caption]\n\nIt's not too late to be making p
 lans for the new year\, creating new strategies and initiatives that will 
 enable you to take advantage of an improving economy... and with that thou
 ght in mind we've invited Orange County SCORE to join us. Dennis Wright\, 
 Assistant District Director\, will be our speaker and his presentation - A
 re You Prepared For Better Times ? - will deal with growing sales. He'll a
 lso be sharing stories with us about mistakes made by businesses that you'
 ll want to avoid.\n\nThis is meant to be a thought provoking session\; a s
 ession that anyone who feels there is room for improvement in how they're 
 doing things today should attend.\n\nSpecial Guest Speaker\n\nDennis Wrigh
 t\nAssistant District Director\nOrange County Score\n\n&nbsp\;\n\nCome joi
 n us for good\, face to face networking. Enjoy a delicious lunch and Free 
 Parking.
ATTACH;FMTTYPE=image/jpeg:https://www.newportbeach.com/wp-content/uploads/
 2015/02/abetterplace.jpg
CATEGORIES:Chamber Events,Featured
LOCATION:Bahia Corinthian Yacht Club\, 1601 Bayside Dr.\, Corona Del Mar \,
  Ca\, United States
GEO:33.606986;-117.885179
X-APPLE-STRUCTURED-LOCATION;VALUE=URI;X-ADDRESS=1601 Bayside Dr.\, Corona D
 el Mar \, Ca\, United States;X-APPLE-RADIUS=100;X-TITLE=Bahia Corinthian Y
 acht Club:geo:33.606986,-117.885179
END:VEVENT
BEGIN:VTIMEZONE
TZID:America/Los_Angeles
X-LIC-LOCATION:America/Los_Angeles
BEGIN:STANDARD
DTSTART:20141102T010000
TZOFFSETFROM:-0700
TZOFFSETTO:-0800
TZNAME:PST
END:STANDARD
END:VTIMEZONE
END:VCALENDAR