BEGIN:VCALENDAR
VERSION:2.0
PRODID:-//wp-events-plugin.com//7.0.5//EN
TZID:America/Los_Angeles
X-WR-TIMEZONE:America/Los_Angeles
BEGIN:VEVENT
UID:778@newportbeach.com
DTSTART;TZID=America/Los_Angeles:20171107T180000
DTEND;TZID=America/Los_Angeles:20171107T200000
DTSTAMP:20171009T222301Z
URL:https://www.newportbeach.com/events/navigate-modern-professionals-nove
 mber-event-tricks-mix/
SUMMARY:NAVIGATE: Modern Professionals November Event: Tricks of the Mix
DESCRIPTION:[vc_row full_width="stretch_row"][vc_column][vc_single_image im
 age="278215" img_size="full" alignment="center"][/vc_column][/vc_row][vc_r
 ow disable_element="yes"][vc_column][vc_column_text css=".vc_custom_150758
 7280077{border-top-width: 1px !important\;border-top-style: dotted !import
 ant\;border-radius: 1px !important\;}"]TRICKS OF MIX\n\nThe fine art of mi
 xology\n\n 	Looking to master the perfect cocktail?\n 	Come learn from a p
 rofessional mixologist on what goes into the perfect pour.\n 	Compete to c
 reate the most flavorful libation.\n\n[/vc_column_text][vc_separator][vc_c
 olumn_text]\nSPONSORS\n[/vc_column_text][/vc_column][/vc_row]
ATTACH;FMTTYPE=image/jpeg:https://www.newportbeach.com/wp-content/uploads/
 2017/10/Navigate.novembermixology.jpg
CATEGORIES:Chamber Events,Featured
LOCATION:Balboa Bay Resort\, 1221 W. Coast Highway\, Newport Beach\, CA\, 9
 2663\, United States
GEO:33.615623;-117.914996
X-APPLE-STRUCTURED-LOCATION;VALUE=URI;X-ADDRESS=1221 W. Coast Highway\, New
 port Beach\, CA\, 92663\, United States;X-APPLE-RADIUS=100;X-TITLE=Balboa 
 Bay Resort:geo:33.615623,-117.914996
END:VEVENT
BEGIN:VTIMEZONE
TZID:America/Los_Angeles
X-LIC-LOCATION:America/Los_Angeles
BEGIN:STANDARD
DTSTART:20171105T010000
TZOFFSETFROM:-0700
TZOFFSETTO:-0800
TZNAME:PST
END:STANDARD
END:VTIMEZONE
END:VCALENDAR