BEGIN:VCALENDAR
VERSION:2.0
PRODID:-//wp-events-plugin.com//7.0.5//EN
TZID:America/Los_Angeles
X-WR-TIMEZONE:America/Los_Angeles
BEGIN:VEVENT
UID:2127@newportbeach.com
DTSTART;TZID=America/Los_Angeles:20240608T090000
DTEND;TZID=America/Los_Angeles:20240608T100000
DTSTAMP:20240530T180302Z
URL:https://www.newportbeach.com/events/navigate-hike-hitting-the-trail/
SUMMARY:NAVIGATE Hike: Hitting the Trail
DESCRIPTION:[vc_row full_width="stretch_row"][vc_column][vc_single_image im
 age="624135" img_size="full" alignment="center"][/vc_column][/vc_row][vc_r
 ow][vc_column][gravityform id="257" title="false" description="false" ajax
 ="false"][/vc_column][/vc_row]
ATTACH;FMTTYPE=image/jpeg:https://www.newportbeach.com/wp-content/uploads/
 2024/05/Navigate-Hike-June-2024-300x300-1.jpg
CATEGORIES:Chamber Events,Featured
LOCATION:Vista Ridge Park at Newport Coast\, 15 Vista Ridge Road\, Newport 
 Coast\, CA\, 92657\, United States
X-APPLE-STRUCTURED-LOCATION;VALUE=URI;X-ADDRESS=15 Vista Ridge Road\, Newpo
 rt Coast\, CA\, 92657\, United States;X-APPLE-RADIUS=100;X-TITLE=Vista Rid
 ge Park at Newport Coast:geo:0,0
END:VEVENT
BEGIN:VTIMEZONE
TZID:America/Los_Angeles
X-LIC-LOCATION:America/Los_Angeles
BEGIN:DAYLIGHT
DTSTART:20240310T030000
TZOFFSETFROM:-0800
TZOFFSETTO:-0700
TZNAME:PDT
END:DAYLIGHT
END:VTIMEZONE
END:VCALENDAR