BEGIN:VCALENDAR
VERSION:2.0
PRODID:-//wp-events-plugin.com//7.0.5//EN
TZID:America/Los_Angeles
X-WR-TIMEZONE:America/Los_Angeles
BEGIN:VEVENT
UID:1416@newportbeach.com
DTSTART;TZID=America/Los_Angeles:20200229T170000
DTEND;TZID=America/Los_Angeles:20200229T220000
DTSTAMP:20200115T015657Z
URL:https://www.newportbeach.com/events/napa-in-newport-2/
SUMMARY:NAPA in Newport
DESCRIPTION:[vc_row][vc_column][vc_single_image image="448871" img_size="fu
 ll"][/vc_column][/vc_row][vc_row][vc_column][vc_btn title="TICKETS" shape=
 "square" color="violet" link="url:https%3A%2F%2Fwww.cureduchenne.org%2Fnap
 a-in-newport%2F|||"][/vc_column][/vc_row]
ATTACH;FMTTYPE=image/jpeg:https://www.newportbeach.com/wp-content/uploads/
 2020/01/cd_rgb_300dpi.jpg
CATEGORIES:Local Events
LOCATION:Monarch Beach Resort\, One Monarch Beach Resort\, Dana Point\, CA\
 , 92629\, United States
X-APPLE-STRUCTURED-LOCATION;VALUE=URI;X-ADDRESS=One Monarch Beach Resort\, 
 Dana Point\, CA\, 92629\, United States;X-APPLE-RADIUS=100;X-TITLE=Monarch
  Beach Resort:geo:0,0
END:VEVENT
BEGIN:VTIMEZONE
TZID:America/Los_Angeles
X-LIC-LOCATION:America/Los_Angeles
BEGIN:STANDARD
DTSTART:20191103T010000
TZOFFSETFROM:-0700
TZOFFSETTO:-0800
TZNAME:PST
END:STANDARD
END:VTIMEZONE
END:VCALENDAR