BEGIN:VCALENDAR
VERSION:2.0
PRODID:-//wp-events-plugin.com//7.0.5//EN
TZID:America/Los_Angeles
X-WR-TIMEZONE:America/Los_Angeles
BEGIN:VEVENT
UID:1575@newportbeach.com
DTSTART;TZID=America/Los_Angeles:20210212T090000
DTEND;TZID=America/Los_Angeles:20210212T090000
DTSTAMP:20210205T233015Z
URL:https://www.newportbeach.com/events/multi-chamber-candidate-forum/
SUMMARY:Multi-Chamber CANDIDATE FORUM
DESCRIPTION:[vc_row][vc_column][vc_column_text]\nJoin several local Chamber
 s of Commerce for one great event.\nNewport Beach | North Orange County  
 |  Cypress\nCosta Mesa |  Fountain Valley | Huntington Beach\nLos Alami
 tos |  South Coast Metro Alliance | Seal Beach\n[/vc_column_text][/vc_col
 umn][vc_column][vc_single_image image="506509" img_size="full" alignment="
 center" onclick="custom_link" link="https://us02web.zoom.us/webinar/regist
 er/WN_EwBj8l2kQ0-ibR3OEe4paw"][vc_btn title="REGISTER HERE" color="blue" s
 ize="lg" align="center" link="url:https%3A%2F%2Fus02web.zoom.us%2Fwebinar%
 2Fregister%2FWN_EwBj8l2kQ0-ibR3OEe4paw|target:_blank"][/vc_column][/vc_row
 ]
ATTACH;FMTTYPE=image/jpeg:https://www.newportbeach.com/wp-content/uploads/
 2021/02/candidatebox-1-e1612550875605.jpg
CATEGORIES:Chamber Events,Featured
END:VEVENT
BEGIN:VTIMEZONE
TZID:America/Los_Angeles
X-LIC-LOCATION:America/Los_Angeles
BEGIN:STANDARD
DTSTART:20201101T010000
TZOFFSETFROM:-0700
TZOFFSETTO:-0800
TZNAME:PST
END:STANDARD
END:VTIMEZONE
END:VCALENDAR