BEGIN:VCALENDAR
VERSION:2.0
PRODID:-//wp-events-plugin.com//7.0.5//EN
TZID:America/Los_Angeles
X-WR-TIMEZONE:America/Los_Angeles
BEGIN:VEVENT
UID:2600@newportbeach.com
DTSTART;TZID=America/Los_Angeles:20260902T130000
DTEND;TZID=America/Los_Angeles:20260906T230000
DTSTAMP:20260330T212913Z
URL:https://www.newportbeach.com/events/miracle-makers-international-film-
 festival/
SUMMARY:Miracle Makers International Film Festival
DESCRIPTION:Miracle Makers International Film Festival (MMIFF) is a multi-d
 ay international festival in Newport Beach bringing together creators\, in
 dustry leaders\, and audiences across film\, media\, and the arts. Held Se
 ptember 2–6 at the Regal Edwards Newport Beach\, the festival features 8
 0+ categories across film\, TV\, music\, dance\, writing\, podcasts\, and 
 new media\, with both faith-based and open categories. The event includes 
 film screenings\, red carpet experiences\, panel discussions\, and curated
  networking events\, alongside vendor and sponsor booths\, book signings\,
  and live activations throughout the festival. MMIFF is designed to bring 
 together celebrities\, influencers\, major faith and entertainment organiz
 ations\, and industry key holders\, creating a dynamic environment for con
 nection\, collaboration\, and visibility. This is a unique opportunity for
  attendees\, creators\, businesses\, and sponsors to engage directly with 
 a growing audience and be part of a high-impact\, multi-industry event in 
 the heart of Newport Beach.
ATTACH;FMTTYPE=image/jpeg:https://www.newportbeach.com/wp-content/uploads/
 2026/03/logo.webp
CATEGORIES:Local Events
LOCATION:Regal Edwards Newport Beach\, 300 Newport Center Dr\,\, Newport Be
 ach\, CA\, 92660\, United States
X-APPLE-STRUCTURED-LOCATION;VALUE=URI;X-ADDRESS=300 Newport Center Dr\,\, N
 ewport Beach\, CA\, 92660\, United States;X-APPLE-RADIUS=100;X-TITLE=Regal
  Edwards Newport Beach:geo:0,0
END:VEVENT
BEGIN:VTIMEZONE
TZID:America/Los_Angeles
X-LIC-LOCATION:America/Los_Angeles
BEGIN:DAYLIGHT
DTSTART:20260308T030000
TZOFFSETFROM:-0800
TZOFFSETTO:-0700
TZNAME:PDT
END:DAYLIGHT
END:VTIMEZONE
END:VCALENDAR