BEGIN:VCALENDAR
VERSION:2.0
PRODID:-//wp-events-plugin.com//7.0.5//EN
TZID:America/Los_Angeles
X-WR-TIMEZONE:America/Los_Angeles
BEGIN:VEVENT
UID:2412@newportbeach.com
DTSTART;TZID=America/Los_Angeles:20250812T110000
DTEND;TZID=America/Los_Angeles:20250812T120000
DTSTAMP:20250811T163554Z
URL:https://www.newportbeach.com/events/mid-year-market-pulse-webinar-what
 s-driving-volatility-value-opportunity/
SUMMARY:Mid-Year Market Pulse Webinar – What’s Driving Volatility\, Val
 ue & Opportunity
DESCRIPTION:[vc_row][vc_column][vc_btn title="Register Here!" style="3d" co
 lor="blue" link="url:https%3A%2F%2Fzoom.us%2Fwebinar%2Fregister%2FWN_NJowf
 yT-Tz2F9nIirAbU5Q%23%2Fregistration|target:_blank"][vc_single_image image=
 "629858" img_size="Full" onclick="custom_link" img_link_target="_blank" li
 nk="https://zoom.us/webinar/register/WN_NJowfyT-Tz2F9nIirAbU5Q#/registrati
 on"][vc_column_text]\nContact: Andres Guzman\nOrganization: Legacy Wealth 
 Investment Counsel\, LLC\nEmail: info@legacywealthic.com\nPhone: 949-867-
 7670\nAs we pass the halfway mark of 2025\, markets have climbed to new hi
 ghs\, despite ongoing volatility\, trade uncertainty\, and major shifts in
  fiscal policy. In this timely mid-year outlook\, we’re pleased to welco
 me Tim Holland\, CFA\, Chief Investment Officer at Orion\, to share his pe
 rspective on what drove the Q2 rally\, how recent tax law changes are infl
 uencing investor behavior\, and what may lie ahead. Join Tim and Legacy We
 alth Investment Counsel Founder Andres Guzman\, CFP®\, CPWA® for a data-
 driven discussion on the impact of tariffs\, what the bond market is signa
 ling and the key risks and opportunities shaping the second half of the ye
 ar.  \n[/vc_column_text][/vc_column][/vc_row]
ATTACH;FMTTYPE=image/jpeg:https://www.newportbeach.com/wp-content/uploads/
 2025/08/Mid-Year-Market-Pulse-Aug-2025.png
CATEGORIES:Local Events
END:VEVENT
BEGIN:VTIMEZONE
TZID:America/Los_Angeles
X-LIC-LOCATION:America/Los_Angeles
BEGIN:DAYLIGHT
DTSTART:20250309T030000
TZOFFSETFROM:-0800
TZOFFSETTO:-0700
TZNAME:PDT
END:DAYLIGHT
END:VTIMEZONE
END:VCALENDAR