BEGIN:VCALENDAR
VERSION:2.0
PRODID:-//wp-events-plugin.com//7.0.5//EN
TZID:America/Los_Angeles
X-WR-TIMEZONE:America/Los_Angeles
BEGIN:VEVENT
UID:1859@newportbeach.com
DTSTART;TZID=America/Los_Angeles:20230222T183000
DTEND;TZID=America/Los_Angeles:20230222T203000
DTSTAMP:20230209T225415Z
URL:https://www.newportbeach.com/events/menopause-made-easy-workshop-whole
 -body-health-team/
SUMMARY:"Menopause Made Easy" Workshop - Whole Body Health Team
DESCRIPTION:[vc_row][vc_column][vc_single_image image="616698" img_size="fu
 ll" alignment="center" onclick="custom_link" img_link_target="_blank" link
 ="https://www.eventbrite.com/e/menopause-made-easy-tickets-539653858217"][
 /vc_column][/vc_row][vc_row][vc_column][vc_column_text]\nFeaturing Chamber
  Member Dr. Jennifer Roelands of Well Woman MD!\n[/vc_column_text][/vc_col
 umn][/vc_row][vc_row][vc_column][vc_btn title="Register Here" color="dange
 r" align="center" link="url:https%3A%2F%2Fwww.eventbrite.com%2Fe%2Fmenopau
 se-made-easy-tickets-539653858217|target:_blank"][/vc_column][/vc_row]
ATTACH;FMTTYPE=image/jpeg:https://www.newportbeach.com/wp-content/uploads/
 2022/09/whole.body_.health.team-logo.png
CATEGORIES:Local Events
LOCATION:Whole Body Health Team\, 4063 Birch Street\, Suite 150\, Newport B
 each\, CA\, 92660\, United States
X-APPLE-STRUCTURED-LOCATION;VALUE=URI;X-ADDRESS=4063 Birch Street\, Suite 1
 50\, Newport Beach\, CA\, 92660\, United States;X-APPLE-RADIUS=100;X-TITLE
 =Whole Body Health Team:geo:0,0
END:VEVENT
BEGIN:VTIMEZONE
TZID:America/Los_Angeles
X-LIC-LOCATION:America/Los_Angeles
BEGIN:STANDARD
DTSTART:20221106T010000
TZOFFSETFROM:-0700
TZOFFSETTO:-0800
TZNAME:PST
END:STANDARD
END:VTIMEZONE
END:VCALENDAR