BEGIN:VCALENDAR
VERSION:2.0
PRODID:-//wp-events-plugin.com//7.0.5//EN
TZID:America/Los_Angeles
X-WR-TIMEZONE:America/Los_Angeles
BEGIN:VEVENT
UID:142@newportbeach.com
DTSTART;TZID=America/Los_Angeles:20141209T183000
DTEND;TZID=America/Los_Angeles:20141209T183000
DTSTAMP:20141208T174632Z
URL:https://www.newportbeach.com/events/mayors-reception/
SUMMARY:Mayor's Reception and Chamber Member Awards
DESCRIPTION:Hosted by the Commodores Club of the Newport Beach Chamber of C
 ommerce\, please join us for the Newport Beach Mayor's Reception to meet o
 ur newly elected City Council Members newly appointed Mayor. Hors d'oeuvr
 es and a no host bar will be provided.\n\nThe event will also feature reco
 gnition of the Chamber's Silver Anchor Award Recipients and the Ambassador
  of the Year.\n\nThis event is expected to sell out\, so please make your 
 reservations early. Walk ups will only be accommodated on a space availabl
 e basis.
ATTACH;FMTTYPE=image/jpeg:https://www.newportbeach.com/wp-content/uploads/
 2014/11/cityhall.jpg
CATEGORIES:Chamber Events,Featured
LOCATION:The Back Bay Bistro at the Newport Dunes Waterfront Resort\, 1131 
 Back Bay Drive\, Newport Beach\, CA\, 92660\, United States
GEO:33.6152657;-117.8921934
X-APPLE-STRUCTURED-LOCATION;VALUE=URI;X-ADDRESS=1131 Back Bay Drive\, Newpo
 rt Beach\, CA\, 92660\, United States;X-APPLE-RADIUS=100;X-TITLE=The Back 
 Bay Bistro at the Newport Dunes Waterfront Resort:geo:33.6152657,-117.8921
 934
END:VEVENT
BEGIN:VTIMEZONE
TZID:America/Los_Angeles
X-LIC-LOCATION:America/Los_Angeles
BEGIN:STANDARD
DTSTART:20141102T010000
TZOFFSETFROM:-0700
TZOFFSETTO:-0800
TZNAME:PST
END:STANDARD
END:VTIMEZONE
END:VCALENDAR