BEGIN:VCALENDAR
VERSION:2.0
PRODID:-//wp-events-plugin.com//7.0.5//EN
TZID:America/Los_Angeles
X-WR-TIMEZONE:America/Los_Angeles
BEGIN:VEVENT
UID:2616@newportbeach.com
DTSTART;TZID=America/Los_Angeles:20260528T170000
DTEND;TZID=America/Los_Angeles:20260528T193000
DTSTAMP:20260420T210727Z
URL:https://www.newportbeach.com/events/may-2026-sunset-networking-mixer-a
 merican-legion-newport-harbor-post-291/
SUMMARY:May 2026 Sunset Networking Mixer - American Legion Newport Harbor P
 ost 291
DESCRIPTION:[vc_row][vc_column][vc_single_image image="633808" img_size="fu
 ll" alignment="center" onclick="img_link_large" css_animation="fadeIn"][vc
 _zigzag color="green" el_border_width="8"][vc_column_text]\nMembers...\nPl
 ease invite Future Chamber Members as your complimentary guests\nMEMBERS O
 NLY – A Member can invite up to five (5) non-member guests one-time (for
  more\, check with Ryan).\nTo do so you MUST send an email to ryan@newport
 beach.com and cc annette@newportbeach.com. The email must include the gues
 ts First/Last name\, Business\, Email and Phone number.\nMember Guest invi
 te cut off is Noon the day of the event.\nGuests will not be admitted comp
 limentary without a member email invite.\nThank you!\n[/vc_column_text][/v
 c_column][/vc_row][vc_row disable_element="yes"][vc_column][vc_media_grid 
 item="mediaGrid_ScaleInWithIcon" initial_loading_animation="fadeInUp" grid
 _id="vc_gid:1776714386076-79367aa6-ffef-9" include="633532\,633533\,633534
 \,633535\,633536\,633537\,633538"][/vc_column][/vc_row][vc_row disable_ele
 ment="yes"][vc_column][vc_column_text]\nSponsored by\n\n\n[/vc_column_text
 ][/vc_column][/vc_row][vc_row disable_element="yes"][vc_column][vc_zigzag 
 color="green" el_border_width="8"][vc_column_text]Woody's Wharf opened in 
 1965 and was an immediate hit. Its unique waterfront location on Newport B
 ay drew crowds who wanted to be served food &amp\; drink in an atmosphere 
 that included live music.\n\nPast patrons at Woody's Wharf have included f
 amous celebrities &amp\; athletes such as John Wayne\, Cary Grant\, Humphr
 ey Bogart\, Mickey Mantle and Billy Martin. One celebrity enjoyed Woody's 
 Wharf enough to buy the business. Actor and Karate champion Chuck Norris t
 ook over Woody's and was able to hire some of the athletes that were train
 ing under him at the time. Among the doormen working at Woody's for Chuck 
 Norris included Jean-Claude Van Damme.[/vc_column_text][/vc_column][/vc_ro
 w][vc_row][vc_column][vc_zigzag color="green" el_border_width="8"][vc_colu
 mn_text]For more information about Chamber events\, please contact:\n\nRya
 n Magdaleno - (949) 729-4406\nEmail: ryan@newportbeach.com[/vc_column_text
 ][/vc_column][/vc_row]
ATTACH;FMTTYPE=image/jpeg:https://www.newportbeach.com/wp-content/uploads/
 2026/04/May-2026-Sunset-Mixer-American-Legion-300.jpg
CATEGORIES:Chamber Events,Featured
LOCATION:American Legion\, 215 15th Street\, Newport Beach\, CA\, 92663\, U
 nited States
GEO:33.6072009;-117.9206092
X-APPLE-STRUCTURED-LOCATION;VALUE=URI;X-ADDRESS=215 15th Street\, Newport B
 each\, CA\, 92663\, United States;X-APPLE-RADIUS=100;X-TITLE=American Legi
 on:geo:33.6072009,-117.9206092
END:VEVENT
BEGIN:VTIMEZONE
TZID:America/Los_Angeles
X-LIC-LOCATION:America/Los_Angeles
BEGIN:DAYLIGHT
DTSTART:20260308T030000
TZOFFSETFROM:-0800
TZOFFSETTO:-0700
TZNAME:PDT
END:DAYLIGHT
END:VTIMEZONE
END:VCALENDAR