BEGIN:VCALENDAR
VERSION:2.0
PRODID:-//wp-events-plugin.com//7.0.5//EN
TZID:America/Los_Angeles
X-WR-TIMEZONE:America/Los_Angeles
BEGIN:VEVENT
UID:2617@newportbeach.com
DTSTART;TZID=America/Los_Angeles:20260520T113000
DTEND;TZID=America/Los_Angeles:20260520T133000
DTSTAMP:20260420T221043Z
URL:https://www.newportbeach.com/events/may-2026-networking-luncheon-serie
 s-bistango/
SUMMARY:May 2026 Networking Luncheon Series - Bistango
DESCRIPTION:[vc_row disable_element="yes"][vc_column][vc_custom_heading tex
 t="Onlilne reservations are now closed. For possible seating\, please call
  949-729-4400." font_container="tag:h2|font_size:36|text_align:center" use
 _theme_fonts="yes"][/vc_column][/vc_row][vc_row][vc_column][vc_custom_head
 ing text="Limited Space.\nReserve Your Spot Early!\nUse the form below." f
 ont_container="tag:h2|font_size:36|text_align:center" use_theme_fonts="yes
 "][/vc_column][/vc_row][vc_row][vc_column][vc_single_image image="633813" 
 img_size="full" alignment="center" onclick="img_link_large" img_link_targe
 t="_blank"][/vc_column][/vc_row][vc_row][vc_column][vc_text_separator titl
 e="SPONSORED BY"][/vc_column][vc_column width="1/3"][/vc_column][vc_column
  width="1/3"][vc_single_image image="632547" img_size="FULL" alignment="ce
 nter"][/vc_column][vc_column width="1/3"][/vc_column][/vc_row][vc_row][vc_
 column][gravityform id="387" title="false" description="false" ajax="false
 "][/vc_column][/vc_row][vc_row disable_element="yes"][vc_column][vc_column
 _text][/vc_column_text][vc_column_text]Your Newport Beach Fleming's can be
  found at Fashion Island\, close to John Wayne Airport\, the Island Hotel 
 and the Newport Beach Marriott Hotel and Spa. Fleming's in Newport Beach 
 is an outstanding choice to enjoy an exceptional Prime steak\, glass of wi
 ne or handcrafted cocktail. Whether you’re celebrating a special occasio
 n\, hosting a business dinner or simply wanting to enjoy a night out — w
 e will create a memorable evening in our Dining Room.\n\nWith premium Pr
 ime steak options on our Dinner Menu as well as best-in-class seafood an
 d innovative vegetarian options\, we have something to offer everyone you
  are dining with. We also welcome you to join us starting at 11AM Monday -
  Friday for our Weekday Lunch Menu\, which offers a flavorful range of sa
 ndwiches\, salads and more for the perfect mid-day break from the office o
 r a chance to catch-up with friends. And if you’re ready to end the day 
 and start your evening with a cocktail\, join us at the bar from 4PM to 6P
 M every night for Social Hour\, featuring shareable bar bites and $9 hand
 -crafted cocktails.[/vc_column_text][/vc_column][/vc_row][vc_row disable_e
 lement="yes"][vc_column width="1/2"][vc_text_separator title="Key Topic Ar
 eas" border_width="2"][/vc_column][vc_column width="1/2"][vc_text_separato
 r title="Sponsored by" border_width="2"][/vc_column][/vc_row]
ATTACH;FMTTYPE=image/jpeg:https://www.newportbeach.com/wp-content/uploads/
 2026/04/Luncheon-May-20-Bistango-300.jpg
CATEGORIES:Chamber Events,Featured
LOCATION:Bistango\, 19100 Von Karman Avenue\, Irvine\, CA\, 92612\, United 
 States
GEO:33.6704577;-117.85761890000003
X-APPLE-STRUCTURED-LOCATION;VALUE=URI;X-ADDRESS=19100 Von Karman Avenue\, I
 rvine\, CA\, 92612\, United States;X-APPLE-RADIUS=100;X-TITLE=Bistango:geo
 :33.6704577,-117.85761890000003
END:VEVENT
BEGIN:VTIMEZONE
TZID:America/Los_Angeles
X-LIC-LOCATION:America/Los_Angeles
BEGIN:DAYLIGHT
DTSTART:20260308T030000
TZOFFSETFROM:-0800
TZOFFSETTO:-0700
TZNAME:PDT
END:DAYLIGHT
END:VTIMEZONE
END:VCALENDAR