BEGIN:VCALENDAR
VERSION:2.0
PRODID:-//wp-events-plugin.com//7.0.5//EN
TZID:America/Los_Angeles
X-WR-TIMEZONE:America/Los_Angeles
BEGIN:VEVENT
UID:384@newportbeach.com
DTSTART;TZID=America/Los_Angeles:20160503T170000
DTEND;TZID=America/Los_Angeles:20160503T170000
DTSTAMP:20160419T182221Z
URL:https://www.newportbeach.com/events/marine-committee-meeting-3/
SUMMARY:Marine Committee Meeting
DESCRIPTION:Newport Beach Chamber of Commerce Marine Committee\nThe Newport
  Beach Chamber of Commerce Marine Committee meets once a month to provide 
 information and education on all  topics that are "marine oriented". The 
 meetings are open to the public and will be held at 5pm the 1st Tuesday of
  the month at the Marina Park located on Newport Harbor in Newport Beach.\
 n\nThe May Meeting will focus on Marine and Harbor Safety. We want to ensu
 re everybody is consistent with the rules\, communication procedures and c
 urrent techniques to ensure our harbor stays one of the most beautiful...a
 nd safest assets our community enjoys.\n• Electric Boat rental companies
 \n• Stand-up Paddle rental companies\n• Charter Boat companies and the
 ir Captains\n• Yacht Clubs and their Sailing Directors and Sailing Clubs
 \n• Anyone else on the water!\nReservations are not needed.\n\n&nbsp\;
ATTACH;FMTTYPE=image/jpeg:https://www.newportbeach.com/wp-content/uploads/
 2016/04/marinesafety.jpg
CATEGORIES:Chamber Committee Meetings,Chamber Events,Featured
LOCATION:Marina Park\, 1600 W. Balboa Blvd.\, Newport Beach\, CA\, 92660\, 
 United States
GEO:33.6073256;-117.9221379
X-APPLE-STRUCTURED-LOCATION;VALUE=URI;X-ADDRESS=1600 W. Balboa Blvd.\, Newp
 ort Beach\, CA\, 92660\, United States;X-APPLE-RADIUS=100;X-TITLE=Marina P
 ark:geo:33.6073256,-117.9221379
END:VEVENT
BEGIN:VTIMEZONE
TZID:America/Los_Angeles
X-LIC-LOCATION:America/Los_Angeles
BEGIN:DAYLIGHT
DTSTART:20160313T030000
TZOFFSETFROM:-0800
TZOFFSETTO:-0700
TZNAME:PDT
END:DAYLIGHT
END:VTIMEZONE
END:VCALENDAR