BEGIN:VCALENDAR
VERSION:2.0
PRODID:-//wp-events-plugin.com//7.0.5//EN
TZID:America/Los_Angeles
X-WR-TIMEZONE:America/Los_Angeles
BEGIN:VEVENT
UID:2092@newportbeach.com
DTSTART;TZID=America/Los_Angeles:20240320T113000
DTEND;TZID=America/Los_Angeles:20240320T133000
DTSTAMP:20240221T183546Z
URL:https://www.newportbeach.com/events/march-networking-luncheon-series-b
 ahia-corinthian-yacht-club/
SUMMARY:March Networking Luncheon Series - Bahia Corinthian Yacht Club
DESCRIPTION:[vc_row][vc_column][vc_custom_heading text="Limited Space...\nR
 eserve Your Spot Early" font_container="tag:h1|font_size:36|text_align:cen
 ter" use_theme_fonts="yes"][/vc_column][/vc_row][vc_row][vc_column][vc_sin
 gle_image image="622788" img_size="full" alignment="center" onclick="img_l
 ink_large" img_link_target="_blank"][vc_separator][/vc_column][/vc_row][vc
 _row disable_element="yes"][vc_column][vc_text_separator title="Featured G
 uest Speaker" border_width="2"][/vc_column][/vc_row][vc_row disable_elemen
 t="yes"][vc_column][vc_column_text]\n\nNada Lena Nasserdeen\nMA Executive 
 Leadership\nTEDx Talk Speaker\n[/vc_column_text][vc_column_text]Nada Lena 
 is the founder and CEO of Rise Up For You\, an educational and motivationa
 l company focusing on enhancing company culture and people development thr
 ough teaching soft skills\, aka human skills. She is an Executive Leadersh
 ip and Career Confidence Coach\, Post-Secondary Educator\, Motivational an
 d TEDx Talk Speaker\, and Advocate for Youth Empowerment.\nWith over 10 ye
 ars experience as a college professor and former top executive for an educ
 ation corporation\, Nada has been featured on over 50 podcasts and radio s
 hows and has also been a motivational and educational speaker on platforms
  such as TEDx Talks.[/vc_column_text][/vc_column][/vc_row][vc_row disable_
 element="yes"][vc_column][vc_custom_heading text="What’s your social med
 ia status? Is it strong and healthy or weak and old? Are you part of the o
 nline community or sitting on the sidelines watching it? Get in the bigges
 t game in business!\n\nCome find out the latest strategies and insider inf
 ormation on social media and how you can best use it to amplify your brand
 .\n\nIn today’s business world\, social media has become the most import
 ant factor in your brand’s power and marketing success. Social media and
  digital marketing have made us a global world which provides massive oppo
 rtunities for companies who know how to use it effectively.\n\n• Power o
 f IG\, FB and Influencers and current marketplace\n• Posting basics - if
  you’re not consistent\, you’re invisible\n• Creative strategies tha
 t work\n• Measure your success - how to make social media quantifiable" 
 font_container="tag:p|font_size:24|text_align:left" use_theme_fonts="yes"]
 [/vc_column][/vc_row][vc_row disable_element="yes"][vc_column width="1/2"]
 [vc_text_separator title="Key Topic Areas" border_width="2"][/vc_column][v
 c_column width="1/2"][vc_text_separator title="Sponsored by" border_width=
 "2"][/vc_column][/vc_row]
ATTACH;FMTTYPE=image/jpeg:https://www.newportbeach.com/wp-content/uploads/
 2021/08/Luncheon-September-2021-networking-BCYC-300x300-1.jpg
CATEGORIES:Chamber Events,Featured
LOCATION:Bahia Corinthian Yacht Club\, 1601 Bayside Dr.\, Corona Del Mar \,
  Ca\, United States
GEO:33.606986;-117.885179
X-APPLE-STRUCTURED-LOCATION;VALUE=URI;X-ADDRESS=1601 Bayside Dr.\, Corona D
 el Mar \, Ca\, United States;X-APPLE-RADIUS=100;X-TITLE=Bahia Corinthian Y
 acht Club:geo:33.606986,-117.885179
END:VEVENT
BEGIN:VTIMEZONE
TZID:America/Los_Angeles
X-LIC-LOCATION:America/Los_Angeles
BEGIN:DAYLIGHT
DTSTART:20240310T030000
TZOFFSETFROM:-0800
TZOFFSETTO:-0700
TZNAME:PDT
END:DAYLIGHT
END:VTIMEZONE
END:VCALENDAR