BEGIN:VCALENDAR
VERSION:2.0
PRODID:-//wp-events-plugin.com//7.0.5//EN
TZID:America/Los_Angeles
X-WR-TIMEZONE:America/Los_Angeles
BEGIN:VEVENT
UID:2568@newportbeach.com
DTSTART;TZID=America/Los_Angeles:20260311T180000
DTEND;TZID=America/Los_Angeles:20260311T200000
DTSTAMP:20260311T222835Z
URL:https://www.newportbeach.com/events/march-navigate-trivia-night-at-wil
 d-goose-tavern/
SUMMARY:March NAVIGATE: Trivia Night at Wild Goose Tavern
DESCRIPTION:[vc_row full_width="stretch_row"][vc_column][vc_column_text]\nR
 eservations are now closed. Please call the Chamber at 949-729-4400 for po
 ssible attendance.\n[/vc_column_text][/vc_column][/vc_row][vc_row full_wid
 th="stretch_row"][vc_column][vc_single_image image="633159" img_size="full
 " alignment="center"][vc_column_text]\nComplimentary self-serve parking at
  Wild Goose\nor Valet available at Playa Mesa for $5\n[/vc_column_text][/v
 c_column][/vc_row][vc_row disable_element="yes"][vc_column][vc_column_text
  css=".vc_custom_1507587280077{border-top-width: 1px !important\;border-to
 p-style: dotted !important\;border-radius: 1px !important\;}"]TRICKS OF MI
 X\n\nThe fine art of mixology\n\n 	Looking to master the perfect cocktail?
 \n 	Come learn from a professional mixologist on what goes into the perfec
 t pour.\n 	Compete to create the most flavorful libation.\n\n[/vc_column_t
 ext][vc_separator][vc_column_text]\nSPONSORS\n[/vc_column_text][/vc_column
 ][/vc_row][vc_row][vc_column][gravityform id="378" title="false" descripti
 on="false" ajax="false"][/vc_column][/vc_row][vc_row disable_element="yes"
 ][vc_column width="1/2"][vc_column_text]\nThank you to our food sponsor\n[
 /vc_column_text][vc_single_image image="621958" img_size="medium" onclick=
 "custom_link" link="https://www.newportcharcuterie.com/"][vc_column_text]\
 n\nArtist curated charcuterie boards\, picnic boxes\, grazing tables\, and
  so much more!\n\n\nWe pride ourselves on our quality\, so we only use the
  highest quality ingredients possible. Our products are gourmet\, seasonal
  and 100% guaranteed fresh! Plus\, we NEVER skimp on the good stuff.\n\n\n
 Newport Beach's premier service for all things cheese! Alyssa Paine built 
 Newport Charcuterie around her love and passion for art\, design\, but mos
 t importantly\, food. "Charcuterie boards have always been my go-to when 
 it came to gatherings and special occasions. I am very snack focused\, so 
 this to me\, is truly the perfect combination. I have always loved hosting
  parties\, and getting all of my people together\, and what better way to 
 connect than through food\, wine\, and laughter."[/vc_column_text][/vc_col
 umn][vc_column width="1/2"][vc_column_text]\nThank you to our venue host\n
 [/vc_column_text][vc_single_image image="619381" img_size="medium" onclick
 ="custom_link" link="https://www.roguecreatives.com/"][vc_column_text]Matt
  Barnes is the Owner and Strategic Director of Rogue Creatives (as well a
 s the Owner of Rogue Collective\, Rogue Aviation\, and as of a few weeks a
 go\, his own custom lightsaber which might be the most impressive thing on
  that list). Matt went to school for far too long and has advanced degrees
  in Education and Organizational Leadership. Rogue Creatives is Matt’s c
 reative agency where he uses those degrees to help organizations define th
 eir personality\, voice\, and values and make sure that their branding rep
 resents them incredibly well using his own Strategic StoryTelling Framewor
 k. Matt lives in Costa Mesa with his wife and five kids.[/vc_column_text][
 /vc_column][/vc_row][vc_row disable_element="yes"][vc_column][vc_column_te
 xt]\nThank You to Our Sponsor\n[/vc_column_text][vc_single_image image="54
 7998" img_size="medium" alignment="center"][/vc_column][/vc_row][vc_row di
 sable_element="yes"][vc_column][vc_media_grid element_width="3" grid_id="v
 c_gid:1773268068665-df365916-668e-2" include="402125\,402126\,402127\,4021
 28\,402130\,402131\,402134"][/vc_column][/vc_row]
ATTACH;FMTTYPE=image/jpeg:https://www.newportbeach.com/wp-content/uploads/
 2026/02/Navigate-March-2026-300x300-1.jpg
CATEGORIES:Chamber Events,Featured
LOCATION:Wild Goose Tavern\,  436 East 17th Street\, Costa Mesa\, CA\, Unit
 ed States
X-APPLE-STRUCTURED-LOCATION;VALUE=URI;X-ADDRESS= 436 East 17th Street\, Cos
 ta Mesa\, CA\, United States;X-APPLE-RADIUS=100;X-TITLE=Wild Goose Tavern:
 geo:0,0
END:VEVENT
BEGIN:VTIMEZONE
TZID:America/Los_Angeles
X-LIC-LOCATION:America/Los_Angeles
BEGIN:DAYLIGHT
DTSTART:20260308T030000
TZOFFSETFROM:-0800
TZOFFSETTO:-0700
TZNAME:PDT
END:DAYLIGHT
END:VTIMEZONE
END:VCALENDAR