BEGIN:VCALENDAR
VERSION:2.0
PRODID:-//wp-events-plugin.com//7.0.5//EN
TZID:America/Los_Angeles
X-WR-TIMEZONE:America/Los_Angeles
BEGIN:VEVENT
UID:2091@newportbeach.com
DTSTART;TZID=America/Los_Angeles:20240328T173000
DTEND;TZID=America/Los_Angeles:20240328T193000
DTSTAMP:20240221T175921Z
URL:https://www.newportbeach.com/events/march-2024-sunset-networking-mixer
 -the-lot-at-fashion-island/
SUMMARY:March 2024 Sunset Networking Mixer - The LOT at Fashion Island
DESCRIPTION:[vc_row][vc_column][vc_single_image image="622784" img_size="fu
 ll" alignment="center" onclick="img_link_large" css_animation="fadeIn"][/v
 c_column][/vc_row][vc_row][vc_column][vc_media_grid item="mediaGrid_ScaleI
 nWithIcon" initial_loading_animation="flipInY" grid_id="vc_gid:17085387202
 99-7c13af55-1e4c-9" include="622786\,622785\,336263"][/vc_column][/vc_row]
 [vc_row][vc_column][vc_zigzag color="peacoc" el_border_width="8"][vc_colum
 n_text]THE LOT is a lifestyle entertainment experience featuring great ser
 vice with a high-quality dining and cinema concept. The venue boasts signa
 ture luxury leather theater recliners.\n\nLocated inside Fashion Island Ma
 ll\, THE LOT provides guests a perfect spot to grab a coffee or freshly ba
 ked pastry at our café\, a cocktail or drink at our trendy bar\, or break
 fast\, lunch or dinner at our fine dining restaurant. Full in-seat dining 
 service is also available in all our seven auditoriums.[/vc_column_text][/
 vc_column][/vc_row][vc_row][vc_column][vc_zigzag color="peacoc" el_border_
 width="8"][vc_column_text]For more information about Chamber events\, plea
 se contact:\n\nAnnette Malinowski - (949) 729-4410\nEmail: annette@newport
 beach.com[/vc_column_text][/vc_column][/vc_row]
ATTACH;FMTTYPE=image/jpeg:https://www.newportbeach.com/wp-content/uploads/
 2018/06/thelot3-e1529534476274.jpg
CATEGORIES:Chamber Events,Featured
LOCATION:The LOT Fashion Island\, 999 Newport Center Drive\, Newport Beach\
 , CA\, 92660\, United States
X-APPLE-STRUCTURED-LOCATION;VALUE=URI;X-ADDRESS=999 Newport Center Drive\, 
 Newport Beach\, CA\, 92660\, United States;X-APPLE-RADIUS=100;X-TITLE=The 
 LOT Fashion Island:geo:0,0
END:VEVENT
BEGIN:VTIMEZONE
TZID:America/Los_Angeles
X-LIC-LOCATION:America/Los_Angeles
BEGIN:DAYLIGHT
DTSTART:20240310T030000
TZOFFSETFROM:-0800
TZOFFSETTO:-0700
TZNAME:PDT
END:DAYLIGHT
END:VTIMEZONE
END:VCALENDAR