BEGIN:VCALENDAR
VERSION:2.0
PRODID:-//wp-events-plugin.com//7.0.5//EN
TZID:America/Los_Angeles
X-WR-TIMEZONE:America/Los_Angeles
BEGIN:VEVENT
UID:1690@newportbeach.com
DTSTART;TZID=America/Los_Angeles:20220316T113000
DTEND;TZID=America/Los_Angeles:20220316T133000
DTSTAMP:20220301T160844Z
URL:https://www.newportbeach.com/events/march-2022-networking-luncheon-bis
 tango/
SUMMARY:March 2022 Networking Luncheon - Bistango
DESCRIPTION:[vc_row][vc_column][vc_custom_heading text="Limited Space Avail
 able...Reserve Your Spot Early" font_container="tag:h1|font_size:36|text_a
 lign:center" use_theme_fonts="yes"][/vc_column][/vc_row][vc_row][vc_column
 ][vc_single_image image="589709" img_size="full" alignment="center" onclic
 k="img_link_large" img_link_target="_blank"][/vc_column][/vc_row][vc_row d
 isable_element="yes"][vc_column][vc_column_text]\nThis month\, rather than
  having an educational speaker\, we will spend the entire meeting networki
 ng with everyone in the room.\n[/vc_column_text][vc_row_inner][vc_column_i
 nner][vc_single_image image="394353" img_size="full" alignment="center"][/
 vc_column_inner][/vc_row_inner][/vc_column][/vc_row][vc_row disable_elemen
 t="yes"][vc_column width="1/2"][vc_single_image image="441666" img_size="3
 00x400" alignment="center" style="vc_box_shadow_3d"][/vc_column][vc_column
  width="1/2"][vc_video link="https://www.youtube.com/watch?v=SUCAzLRZufw&a
 mp\;feature=emb_logo" align="center"][/vc_column][/vc_row][vc_row disable_
 element="yes"][vc_column][vc_text_separator title="Featured Guest Speaker"
  border_width="2"][/vc_column][/vc_row][vc_row disable_element="yes"][vc_c
 olumn][vc_column_text]\n\nNada Lena Nasserdeen\nMA Executive Leadership\nT
 EDx Talk Speaker\n[/vc_column_text][vc_column_text]Nada Lena is the founde
 r and CEO of Rise Up For You\, an educational and motivational company foc
 using on enhancing company culture and people development through teaching
  soft skills\, aka human skills. She is an Executive Leadership and Career
  Confidence Coach\, Post-Secondary Educator\, Motivational and TEDx Talk S
 peaker\, and Advocate for Youth Empowerment.\nWith over 10 years experienc
 e as a college professor and former top executive for an education corpora
 tion\, Nada has been featured on over 50 podcasts and radio shows and has 
 also been a motivational and educational speaker on platforms such as TEDx
  Talks.[/vc_column_text][/vc_column][/vc_row][vc_row disable_element="yes"
 ][vc_column][vc_custom_heading text="What’s your social media status? Is
  it strong and healthy or weak and old? Are you part of the online communi
 ty or sitting on the sidelines watching it? Get in the biggest game in bus
 iness!\n\nCome find out the latest strategies and insider information on s
 ocial media and how you can best use it to amplify your brand.\n\nIn today
 ’s business world\, social media has become the most important factor in
  your brand’s power and marketing success. Social media and digital mark
 eting have made us a global world which provides massive opportunities for
  companies who know how to use it effectively.\n\n• Power of IG\, FB and
  Influencers and current marketplace\n• Posting basics - if you’re not
  consistent\, you’re invisible\n• Creative strategies that work\n• M
 easure your success - how to make social media quantifiable" font_containe
 r="tag:p|font_size:24|text_align:left" use_theme_fonts="yes"][/vc_column][
 /vc_row][vc_row disable_element="yes"][vc_column width="1/2"][vc_text_sepa
 rator title="Key Topic Areas" border_width="2"][/vc_column][vc_column widt
 h="1/2"][vc_text_separator title="Sponsored by" border_width="2"][/vc_colu
 mn][/vc_row]
ATTACH;FMTTYPE=image/jpeg:https://www.newportbeach.com/wp-content/uploads/
 2021/10/Luncheon-October-20-2021-networking-Bistango-300x300-1.jpg
CATEGORIES:Chamber Events,Featured
LOCATION:Bistango\, 19100 Von Karman Avenue\, Irvine\, CA\, 92612\, United 
 States
GEO:33.6704577;-117.85761890000003
X-APPLE-STRUCTURED-LOCATION;VALUE=URI;X-ADDRESS=19100 Von Karman Avenue\, I
 rvine\, CA\, 92612\, United States;X-APPLE-RADIUS=100;X-TITLE=Bistango:geo
 :33.6704577,-117.85761890000003
END:VEVENT
BEGIN:VTIMEZONE
TZID:America/Los_Angeles
X-LIC-LOCATION:America/Los_Angeles
BEGIN:DAYLIGHT
DTSTART:20220313T030000
TZOFFSETFROM:-0800
TZOFFSETTO:-0700
TZNAME:PDT
END:DAYLIGHT
END:VTIMEZONE
END:VCALENDAR