BEGIN:VCALENDAR
VERSION:2.0
PRODID:-//wp-events-plugin.com//7.0.5//EN
TZID:America/Los_Angeles
X-WR-TIMEZONE:America/Los_Angeles
BEGIN:VEVENT
UID:1655@newportbeach.com
DTSTART;TZID=America/Los_Angeles;VALUE=DATE:20211015
DTEND;TZID=America/Los_Angeles;VALUE=DATE:20211016
DTSTAMP:20211011T194140Z
URL:https://www.newportbeach.com/events/macys-x-wacoal-fit-for-the-cure/
SUMMARY:Macy's x Wacoal - Fit for the Cure!
DESCRIPTION:[vc_row][vc_column][vc_column_text]\nMacy's in Fashion Island i
 s partnering with Wacoal for Breast Cancer Awareness Month benefitting Sus
 an G. Komen.\n[/vc_column_text][/vc_column][/vc_row][vc_row][vc_column][vc
 _single_image image="572029" img_size="full" alignment="center"][/vc_colum
 n][/vc_row][vc_row][vc_column][vc_column_text]\nWacoal will donate $2 for 
 every fitting and any Wacoal or B'tempted bra purchase!\n[/vc_column_text]
 [/vc_column][/vc_row][vc_row][vc_column][vc_btn title="SHOP NOW" color="da
 nger" align="center" link="url:https%3A%2F%2Fl.macys.com%2Fnewport-beach-c
 a|title:Macy's%20Newport%20Beach|target:_blank"][/vc_column][/vc_row]
ATTACH;FMTTYPE=image/jpeg:https://www.newportbeach.com/wp-content/uploads/
 2018/12/Macys-logo.jpg
CATEGORIES:Local Events
LOCATION:Macy's Fashion Island\, 101 Newport Center Dr\, Newport Beach\, CA
 \, 92660\, United States
GEO:33.6144814;-117.87540330000002
X-APPLE-STRUCTURED-LOCATION;VALUE=URI;X-ADDRESS=101 Newport Center Dr\, New
 port Beach\, CA\, 92660\, United States;X-APPLE-RADIUS=100;X-TITLE=Macy's 
 Fashion Island:geo:33.6144814,-117.87540330000002
END:VEVENT
BEGIN:VTIMEZONE
TZID:America/Los_Angeles
X-LIC-LOCATION:America/Los_Angeles
BEGIN:DAYLIGHT
DTSTART:20210314T030000
TZOFFSETFROM:-0800
TZOFFSETTO:-0700
TZNAME:PDT
END:DAYLIGHT
END:VTIMEZONE
END:VCALENDAR