BEGIN:VCALENDAR
VERSION:2.0
PRODID:-//wp-events-plugin.com//7.0.5//EN
TZID:America/Los_Angeles
X-WR-TIMEZONE:America/Los_Angeles
BEGIN:VEVENT
UID:2577@newportbeach.com
DTSTART;TZID=America/Los_Angeles:20260414T163000
DTEND;TZID=America/Los_Angeles:20260414T183000
DTSTAMP:20260313T212351Z
URL:https://www.newportbeach.com/events/lumen-dermatology-skin-lab-grand-o
 pening-ribbon-cutting/
SUMMARY:Lumen Dermatology + Skin Lab Grand Opening/ Ribbon Cutting
DESCRIPTION:[vc_row][vc_column][vc_column_text][/vc_column_text][/vc_column
 ][/vc_row][vc_row][vc_column][vc_btn title="RSVP HERE" color="sandy-brown"
  align="center" link="url:https%3A%2F%2Fpartiful.com%2Fe%2F60jFF2OWSkG0kCJ
 J955O%3F"][/vc_column][/vc_row]
ATTACH;FMTTYPE=image/jpeg:https://www.newportbeach.com/wp-content/uploads/
 2026/03/LUMEN-SKINLAB-GRAND-OPENING.png
CATEGORIES:Ribbon Cuttings
LOCATION:Concierge Dermatology\, Aesthetics\, and Wellness\, 250 Newport Ce
 nter Drive Suite M-101\, Newport Beach\, CA\, 92660\, United States
X-APPLE-STRUCTURED-LOCATION;VALUE=URI;X-ADDRESS=250 Newport Center Drive Su
 ite M-101\, Newport Beach\, CA\, 92660\, United States;X-APPLE-RADIUS=100;
 X-TITLE=Concierge Dermatology\, Aesthetics\, and Wellness:geo:0,0
END:VEVENT
BEGIN:VTIMEZONE
TZID:America/Los_Angeles
X-LIC-LOCATION:America/Los_Angeles
BEGIN:DAYLIGHT
DTSTART:20260308T030000
TZOFFSETFROM:-0800
TZOFFSETTO:-0700
TZNAME:PDT
END:DAYLIGHT
END:VTIMEZONE
END:VCALENDAR