BEGIN:VCALENDAR
VERSION:2.0
PRODID:-//wp-events-plugin.com//7.0.5//EN
TZID:America/Los_Angeles
X-WR-TIMEZONE:America/Los_Angeles
BEGIN:VEVENT
UID:2598@newportbeach.com
DTSTART;TZID=America/Los_Angeles:20260429T080000
DTEND;TZID=America/Los_Angeles:20260429T130000
DTSTAMP:20260330T183646Z
URL:https://www.newportbeach.com/events/long-beach-business-ai-summit/
SUMMARY:Long Beach Business & AI Summit
DESCRIPTION:
ATTACH;FMTTYPE=image/jpeg:https://www.newportbeach.com/wp-content/uploads/
 2026/03/APRIL-29-NP-BEACH.png
CATEGORIES:Local Events
LOCATION:LBWIN Adult Career Services Center\, 4811 Airport Plaza Dr #120\, 
 Long Beach\, CA\, 90815\, United States
X-APPLE-STRUCTURED-LOCATION;VALUE=URI;X-ADDRESS=4811 Airport Plaza Dr #120\
 , Long Beach\, CA\, 90815\, United States;X-APPLE-RADIUS=100;X-TITLE=LBWIN
  Adult Career Services Center:geo:0,0
END:VEVENT
BEGIN:VTIMEZONE
TZID:America/Los_Angeles
X-LIC-LOCATION:America/Los_Angeles
BEGIN:DAYLIGHT
DTSTART:20260308T030000
TZOFFSETFROM:-0800
TZOFFSETTO:-0700
TZNAME:PDT
END:DAYLIGHT
END:VTIMEZONE
END:VCALENDAR