BEGIN:VCALENDAR
VERSION:2.0
PRODID:-//wp-events-plugin.com//7.0.5//EN
TZID:America/Los_Angeles
X-WR-TIMEZONE:America/Los_Angeles
BEGIN:VEVENT
UID:2006@newportbeach.com
DTSTART;TZID=America/Los_Angeles:20231117T160000
DTEND;TZID=America/Los_Angeles:20231117T180000
DTSTAMP:20231031T172543Z
URL:https://www.newportbeach.com/events/light-up-the-season-with-lincoln/
SUMMARY:Light Up the Season with Lincoln
DESCRIPTION:[vc_row][vc_column][vc_column_text]\nLight Up the Season with L
 incoln\n[/vc_column_text][/vc_column][/vc_row][vc_row][vc_column][vc_singl
 e_image image="621100" img_size="full" alignment="center"][/vc_column][/vc
 _row][vc_row][vc_column][vc_column_text]\nVisit the Lincoln Experience Cen
 ter just before Fashion Island’s annual tree-lighting ceremony for a fes
 tive fall afternoon. Indulge in a special treat and a tasty beverage from 
 our café while enjoying live music by saxophonist\, Greg Vail.\nWhile you
 ’re there\, take a moment to explore how Lincoln is moving the notion of
  sanctuary forward with the all-new 2024 Lincoln Nautilus®.\n&nbsp\;\n\n*
 While supplies last.\n\n© 2023 Ford Motor Company. Lincoln and Nautilus a
 re registered trademarks of Ford or its affiliates. All rights reserved.[/
 vc_column_text][/vc_column][/vc_row]
ATTACH;FMTTYPE=image/jpeg:https://www.newportbeach.com/wp-content/uploads/
 2020/02/LincolnExperienceCenter_Logo.png
CATEGORIES:Local Events
LOCATION:Lincoln Experience Center\, 139 Newport Center Dr\, Newport Beach\
 , California\, United States
GEO:33.6126693;-117.87543579999999
X-APPLE-STRUCTURED-LOCATION;VALUE=URI;X-ADDRESS=139 Newport Center Dr\, New
 port Beach\, California\, United States;X-APPLE-RADIUS=100;X-TITLE=Lincoln
  Experience Center:geo:33.6126693,-117.87543579999999
END:VEVENT
BEGIN:VTIMEZONE
TZID:America/Los_Angeles
X-LIC-LOCATION:America/Los_Angeles
BEGIN:STANDARD
DTSTART:20231105T010000
TZOFFSETFROM:-0700
TZOFFSETTO:-0800
TZNAME:PST
END:STANDARD
END:VTIMEZONE
END:VCALENDAR