BEGIN:VCALENDAR
VERSION:2.0
PRODID:-//wp-events-plugin.com//7.0.5//EN
TZID:America/Los_Angeles
X-WR-TIMEZONE:America/Los_Angeles
BEGIN:VEVENT
UID:2593@newportbeach.com
DTSTART;TZID=America/Los_Angeles:20260428T100000
DTEND;TZID=America/Los_Angeles:20260428T150000
DTSTAMP:20260325T195204Z
URL:https://www.newportbeach.com/events/lehr-fleet-show/
SUMMARY:LEHR Fleet Show
DESCRIPTION:[vc_row][vc_column][vc_column_text]Join us for the LEHR Annual 
 Fleet Show\, a premier\, hands-on event showcasing the latest in emergency
  and specialty vehicle upfitting\, technology\, and equipment. This free e
 vent brings together fleet professionals\, public safety agencies\, govern
 ment personnel\, and industry partners for a day of innovation\, networkin
 g\, and live demonstrations.\n\nAttendees will have the opportunity to exp
 lore fully upfitted law enforcement\, fire\, EMS\, and public works vehicl
 es\, connect with leading manufacturers and vendors\, and discover cutting
 -edge solutions designed to improve safety\, efficiency\, and performance.
 \n\nEnjoy complimentary lunch\, engage with industry experts\, and gain va
 luable insights into the future of fleet operations. Whether you're a deci
 sion-maker\, technician\, or fleet manager\, this event offers a unique op
 portunity to experience the newest advancements in fleet technology in one
  place.\n\n[/vc_column_text][vc_btn title="REGISTER NOW" color="black" ali
 gn="center" link="url:https%3A%2F%2Flehrauto.com%2Ffleetshow"][/vc_column]
 [/vc_row][vc_row][vc_column][vc_single_image image="633457" img_size="full
 " alignment="center"][/vc_column][/vc_row]
ATTACH;FMTTYPE=image/jpeg:https://www.newportbeach.com/wp-content/uploads/
 2026/03/2026FSFlyer-NB-pdf.jpg
CATEGORIES:Local Events
LOCATION:LEHR ANAHEIM\, 1260 N Jefferson St\, Anahiem\, CA\, 92807\, United
  States
X-APPLE-STRUCTURED-LOCATION;VALUE=URI;X-ADDRESS=1260 N Jefferson St\, Anahi
 em\, CA\, 92807\, United States;X-APPLE-RADIUS=100;X-TITLE=LEHR ANAHEIM:ge
 o:0,0
END:VEVENT
BEGIN:VTIMEZONE
TZID:America/Los_Angeles
X-LIC-LOCATION:America/Los_Angeles
BEGIN:DAYLIGHT
DTSTART:20260308T030000
TZOFFSETFROM:-0800
TZOFFSETTO:-0700
TZNAME:PDT
END:DAYLIGHT
END:VTIMEZONE
END:VCALENDAR